BEGIN:VCALENDAR
VERSION:2.0
PRODID:-//St Kilda Uniting Church - ECPv6.15.16//NONSGML v1.0//EN
CALSCALE:GREGORIAN
METHOD:PUBLISH
X-WR-CALNAME:St Kilda Uniting Church
X-ORIGINAL-URL:https://stkildasouthportunitingchurch.org.au
X-WR-CALDESC:Events for St Kilda Uniting Church
REFRESH-INTERVAL;VALUE=DURATION:PT1H
X-Robots-Tag:noindex
X-PUBLISHED-TTL:PT1H
BEGIN:VTIMEZONE
TZID:Australia/Melbourne
BEGIN:STANDARD
TZOFFSETFROM:+1100
TZOFFSETTO:+1000
TZNAME:AEST
DTSTART:20250405T160000
END:STANDARD
BEGIN:DAYLIGHT
TZOFFSETFROM:+1000
TZOFFSETTO:+1100
TZNAME:AEDT
DTSTART:20251004T160000
END:DAYLIGHT
BEGIN:STANDARD
TZOFFSETFROM:+1100
TZOFFSETTO:+1000
TZNAME:AEST
DTSTART:20260404T160000
END:STANDARD
BEGIN:DAYLIGHT
TZOFFSETFROM:+1000
TZOFFSETTO:+1100
TZNAME:AEDT
DTSTART:20261003T160000
END:DAYLIGHT
BEGIN:STANDARD
TZOFFSETFROM:+1100
TZOFFSETTO:+1000
TZNAME:AEST
DTSTART:20270403T160000
END:STANDARD
BEGIN:DAYLIGHT
TZOFFSETFROM:+1000
TZOFFSETTO:+1100
TZNAME:AEDT
DTSTART:20271002T160000
END:DAYLIGHT
END:VTIMEZONE
BEGIN:VEVENT
DTSTART;TZID=Australia/Melbourne:20260423T150000
DTEND;TZID=Australia/Melbourne:20260423T150000
DTSTAMP:20260423T023212
CREATED:20260401T042120Z
LAST-MODIFIED:20260401T060534Z
UID:5710-1776956400-1776956400@stkildasouthportunitingchurch.org.au
SUMMARY:Mission Meals Emergency Relief
DESCRIPTION:St Kilda South Port and Uniting proudly presents  \nMission Meals Emergency Relief Program  \nWhen: Thursday and Friday 3-6pm \nWhere: Studio Hall (on right hand side of church) \nWho: Anyone who needs food (One food parcel a month per person)
URL:https://stkildasouthportunitingchurch.org.au/event/mission-meals-er-2026-04-02/2026-04-23/
LOCATION:South Melbourne\, 325 Dorcas St\, South Melbourne\, VIC\, 3205\, Australia
ORGANIZER;CN="Rev Alex Sangster":MAILTO:alisangster@gmail.com
END:VEVENT
BEGIN:VEVENT
DTSTART;TZID=Australia/Melbourne:20260423T173000
DTEND;TZID=Australia/Melbourne:20260423T190000
DTSTAMP:20260423T023212
CREATED:20260401T044241Z
LAST-MODIFIED:20260401T044241Z
UID:5736-1776965400-1776970800@stkildasouthportunitingchurch.org.au
SUMMARY:Mission Meal
DESCRIPTION:Join us for food and friendship every Thursday evening\, 5.30-7 pm \nThis free meal is open to everyone in our community – delicious food and good company! \nFind us in the community hall on the east side of the church (on the other side of the men’s shed) \n  \n  \n \n  \n 
URL:https://stkildasouthportunitingchurch.org.au/event/community-meal-2026-04/2026-04-23/
LOCATION:South Melbourne\, 325 Dorcas St\, South Melbourne\, VIC\, 3205\, Australia
ORGANIZER;CN="Rev Alex Sangster":MAILTO:alisangster@gmail.com
END:VEVENT
END:VCALENDAR