BEGIN:VCALENDAR
VERSION:2.0
PRODID:-//St Kilda Uniting Church - ECPv6.15.16//NONSGML v1.0//EN
CALSCALE:GREGORIAN
METHOD:PUBLISH
X-WR-CALNAME:St Kilda Uniting Church
X-ORIGINAL-URL:https://stkildasouthportunitingchurch.org.au
X-WR-CALDESC:Events for St Kilda Uniting Church
REFRESH-INTERVAL;VALUE=DURATION:PT1H
X-Robots-Tag:noindex
X-PUBLISHED-TTL:PT1H
BEGIN:VTIMEZONE
TZID:Australia/Melbourne
BEGIN:STANDARD
TZOFFSETFROM:+1100
TZOFFSETTO:+1000
TZNAME:AEST
DTSTART:20250405T160000
END:STANDARD
BEGIN:DAYLIGHT
TZOFFSETFROM:+1000
TZOFFSETTO:+1100
TZNAME:AEDT
DTSTART:20251004T160000
END:DAYLIGHT
BEGIN:STANDARD
TZOFFSETFROM:+1100
TZOFFSETTO:+1000
TZNAME:AEST
DTSTART:20260404T160000
END:STANDARD
BEGIN:DAYLIGHT
TZOFFSETFROM:+1000
TZOFFSETTO:+1100
TZNAME:AEDT
DTSTART:20261003T160000
END:DAYLIGHT
BEGIN:STANDARD
TZOFFSETFROM:+1100
TZOFFSETTO:+1000
TZNAME:AEST
DTSTART:20270403T160000
END:STANDARD
BEGIN:DAYLIGHT
TZOFFSETFROM:+1000
TZOFFSETTO:+1100
TZNAME:AEDT
DTSTART:20271002T160000
END:DAYLIGHT
END:VTIMEZONE
BEGIN:VEVENT
DTSTART;TZID=Australia/Melbourne:20260104T100000
DTEND;TZID=Australia/Melbourne:20260104T110000
DTSTAMP:20260425T012630
CREATED:20251128T060903Z
LAST-MODIFIED:20251128T060951Z
UID:5480-1767520800-1767524400@stkildasouthportunitingchurch.org.au
SUMMARY:Sunday Service
DESCRIPTION:Our weekly worship is held at our church in South Melbourne. \nWorship to nourish your soul and engage your senses. \nHoly Communion on the 1st Sunday of the month. \nWe are looking forward to seeing you\, all are welcome!
URL:https://stkildasouthportunitingchurch.org.au/event/sunday-service-2026-01-04/
LOCATION:South Melbourne\, 325 Dorcas St\, South Melbourne\, VIC\, 3205\, Australia
CATEGORIES:Church Service
ATTACH;FMTTYPE=image/jpeg:https://stkildasouthportunitingchurch.org.au/wp-content/uploads/2023/02/St-Kilda-South-Port-Uniting-Church-Morning-Service.jpg
END:VEVENT
BEGIN:VEVENT
DTSTART;TZID=Australia/Melbourne:20260111T100000
DTEND;TZID=Australia/Melbourne:20260111T110000
DTSTAMP:20260425T012630
CREATED:20260107T020011Z
LAST-MODIFIED:20260107T020011Z
UID:5536-1768125600-1768129200@stkildasouthportunitingchurch.org.au
SUMMARY:Sunday Service
DESCRIPTION:Our weekly worship is held at our church in South Melbourne. \nWorship to nourish your soul and engage your senses. \nHoly Communion on the 1st Sunday of the month. \nWe are looking forward to seeing you\, all are welcome!
URL:https://stkildasouthportunitingchurch.org.au/event/sunday-service-2026-01-11/
LOCATION:South Melbourne\, 325 Dorcas St\, South Melbourne\, VIC\, 3205\, Australia
CATEGORIES:Church Service
ATTACH;FMTTYPE=image/jpeg:https://stkildasouthportunitingchurch.org.au/wp-content/uploads/2023/02/St-Kilda-South-Port-Uniting-Church-Morning-Service.jpg
END:VEVENT
BEGIN:VEVENT
DTSTART;TZID=Australia/Melbourne:20260118T100000
DTEND;TZID=Australia/Melbourne:20260118T110000
DTSTAMP:20260425T012630
CREATED:20260107T020114Z
LAST-MODIFIED:20260107T020114Z
UID:5538-1768730400-1768734000@stkildasouthportunitingchurch.org.au
SUMMARY:Sunday Service
DESCRIPTION:Our weekly worship is held at our church in South Melbourne. \nWorship to nourish your soul and engage your senses. \nHoly Communion on the 1st Sunday of the month. \nWe are looking forward to seeing you\, all are welcome!
URL:https://stkildasouthportunitingchurch.org.au/event/sunday-service-2026-01-18/
LOCATION:South Melbourne\, 325 Dorcas St\, South Melbourne\, VIC\, 3205\, Australia
CATEGORIES:Church Service
ATTACH;FMTTYPE=image/jpeg:https://stkildasouthportunitingchurch.org.au/wp-content/uploads/2023/02/St-Kilda-South-Port-Uniting-Church-Morning-Service.jpg
END:VEVENT
BEGIN:VEVENT
DTSTART;TZID=Australia/Melbourne:20260125T100000
DTEND;TZID=Australia/Melbourne:20260125T110000
DTSTAMP:20260425T012630
CREATED:20260107T020217Z
LAST-MODIFIED:20260107T020217Z
UID:5540-1769335200-1769338800@stkildasouthportunitingchurch.org.au
SUMMARY:Sunday Service
DESCRIPTION:Our weekly worship is held at our church in South Melbourne. \nWorship to nourish your soul and engage your senses. \nHoly Communion on the 1st Sunday of the month. \nWe are looking forward to seeing you\, all are welcome!
URL:https://stkildasouthportunitingchurch.org.au/event/sunday-service-2026-01-25/
LOCATION:South Melbourne\, 325 Dorcas St\, South Melbourne\, VIC\, 3205\, Australia
CATEGORIES:Church Service
ATTACH;FMTTYPE=image/jpeg:https://stkildasouthportunitingchurch.org.au/wp-content/uploads/2023/02/St-Kilda-South-Port-Uniting-Church-Morning-Service.jpg
END:VEVENT
END:VCALENDAR