BEGIN:VCALENDAR
VERSION:2.0
PRODID:-//St Kilda Uniting Church - ECPv6.15.16//NONSGML v1.0//EN
CALSCALE:GREGORIAN
METHOD:PUBLISH
X-ORIGINAL-URL:https://stkildasouthportunitingchurch.org.au
X-WR-CALDESC:Events for St Kilda Uniting Church
REFRESH-INTERVAL;VALUE=DURATION:PT1H
X-Robots-Tag:noindex
X-PUBLISHED-TTL:PT1H
BEGIN:VTIMEZONE
TZID:Australia/Melbourne
BEGIN:STANDARD
TZOFFSETFROM:+1100
TZOFFSETTO:+1000
TZNAME:AEST
DTSTART:20250405T160000
END:STANDARD
BEGIN:DAYLIGHT
TZOFFSETFROM:+1000
TZOFFSETTO:+1100
TZNAME:AEDT
DTSTART:20251004T160000
END:DAYLIGHT
BEGIN:STANDARD
TZOFFSETFROM:+1100
TZOFFSETTO:+1000
TZNAME:AEST
DTSTART:20260404T160000
END:STANDARD
BEGIN:DAYLIGHT
TZOFFSETFROM:+1000
TZOFFSETTO:+1100
TZNAME:AEDT
DTSTART:20261003T160000
END:DAYLIGHT
BEGIN:STANDARD
TZOFFSETFROM:+1100
TZOFFSETTO:+1000
TZNAME:AEST
DTSTART:20270403T160000
END:STANDARD
BEGIN:DAYLIGHT
TZOFFSETFROM:+1000
TZOFFSETTO:+1100
TZNAME:AEDT
DTSTART:20271002T160000
END:DAYLIGHT
END:VTIMEZONE
BEGIN:VEVENT
DTSTART;TZID=Australia/Melbourne:20260218T183000
DTEND;TZID=Australia/Melbourne:20260218T193000
DTSTAMP:20260425T013018
CREATED:20260211T022655Z
LAST-MODIFIED:20260211T022655Z
UID:5684-1771439400-1771443000@stkildasouthportunitingchurch.org.au
SUMMARY:Ash Wednesday
DESCRIPTION:Gather for the start of Lent – in silence\, in words\, in ashes
URL:https://stkildasouthportunitingchurch.org.au/event/ash_wednesday_2026_02_18/
LOCATION:South Melbourne\, 325 Dorcas St\, South Melbourne\, VIC\, 3205\, Australia
CATEGORIES:Church Service
ATTACH;FMTTYPE=image/jpeg:https://stkildasouthportunitingchurch.org.au/wp-content/uploads/2023/02/St-Kilda-South-Port-Uniting-Church-Morning-Service.jpg
END:VEVENT
END:VCALENDAR