BEGIN:VCALENDAR
VERSION:2.0
PRODID:-//St Kilda Uniting Church - ECPv6.15.16//NONSGML v1.0//EN
CALSCALE:GREGORIAN
METHOD:PUBLISH
X-ORIGINAL-URL:https://stkildasouthportunitingchurch.org.au
X-WR-CALDESC:Events for St Kilda Uniting Church
REFRESH-INTERVAL;VALUE=DURATION:PT1H
X-Robots-Tag:noindex
X-PUBLISHED-TTL:PT1H
BEGIN:VTIMEZONE
TZID:Australia/Melbourne
BEGIN:STANDARD
TZOFFSETFROM:+1100
TZOFFSETTO:+1000
TZNAME:AEST
DTSTART:20220402T160000
END:STANDARD
BEGIN:DAYLIGHT
TZOFFSETFROM:+1000
TZOFFSETTO:+1100
TZNAME:AEDT
DTSTART:20221001T160000
END:DAYLIGHT
BEGIN:STANDARD
TZOFFSETFROM:+1100
TZOFFSETTO:+1000
TZNAME:AEST
DTSTART:20230401T160000
END:STANDARD
BEGIN:DAYLIGHT
TZOFFSETFROM:+1000
TZOFFSETTO:+1100
TZNAME:AEDT
DTSTART:20230930T160000
END:DAYLIGHT
BEGIN:STANDARD
TZOFFSETFROM:+1100
TZOFFSETTO:+1000
TZNAME:AEST
DTSTART:20240406T160000
END:STANDARD
BEGIN:DAYLIGHT
TZOFFSETFROM:+1000
TZOFFSETTO:+1100
TZNAME:AEDT
DTSTART:20241005T160000
END:DAYLIGHT
BEGIN:STANDARD
TZOFFSETFROM:+1100
TZOFFSETTO:+1000
TZNAME:AEST
DTSTART:20250405T160000
END:STANDARD
BEGIN:DAYLIGHT
TZOFFSETFROM:+1000
TZOFFSETTO:+1100
TZNAME:AEDT
DTSTART:20251004T160000
END:DAYLIGHT
END:VTIMEZONE
BEGIN:VEVENT
DTSTART;TZID=Australia/Melbourne:20240303T100000
DTEND;TZID=Australia/Melbourne:20240303T110000
DTSTAMP:20260425T133945
CREATED:20240124T004820Z
LAST-MODIFIED:20240124T004820Z
UID:4351-1709460000-1709463600@stkildasouthportunitingchurch.org.au
SUMMARY:Sunday Service (with Communion)
DESCRIPTION:Our weekly worship held at our church in South Melbourne. Worship to nourish your soul and engage your senses.\nHoly Communion on the 1st Sunday of the month. \nWe are looking forward to seeing you\, all are welcome!
URL:https://stkildasouthportunitingchurch.org.au/event/sunday-service-2024-03-03/
LOCATION:South Melbourne\, 325 Dorcas St\, South Melbourne\, VIC\, 3205\, Australia
CATEGORIES:Church Service
ATTACH;FMTTYPE=image/jpeg:https://stkildasouthportunitingchurch.org.au/wp-content/uploads/2023/02/St-Kilda-South-Port-Uniting-Church-Morning-Service.jpg
END:VEVENT
BEGIN:VEVENT
DTSTART;TZID=Australia/Melbourne:20240225T100000
DTEND;TZID=Australia/Melbourne:20240225T110000
DTSTAMP:20260425T133945
CREATED:20240124T002102Z
LAST-MODIFIED:20240124T002102Z
UID:4312-1708855200-1708858800@stkildasouthportunitingchurch.org.au
SUMMARY:Sunday Service
DESCRIPTION:Our weekly worship held at our church in South Melbourne. Worship to nourish your soul and engage your senses.\nHoly Communion on the 1st Sunday of the month. \nWe are looking forward to seeing you\, all are welcome!
URL:https://stkildasouthportunitingchurch.org.au/event/sunday-service-2024-02-25/
LOCATION:South Melbourne\, 325 Dorcas St\, South Melbourne\, VIC\, 3205\, Australia
CATEGORIES:Church Service
ATTACH;FMTTYPE=image/jpeg:https://stkildasouthportunitingchurch.org.au/wp-content/uploads/2023/02/St-Kilda-South-Port-Uniting-Church-Morning-Service.jpg
END:VEVENT
BEGIN:VEVENT
DTSTART;TZID=Australia/Melbourne:20240218T100000
DTEND;TZID=Australia/Melbourne:20240218T110000
DTSTAMP:20260425T133945
CREATED:20240124T002016Z
LAST-MODIFIED:20240124T002016Z
UID:4310-1708250400-1708254000@stkildasouthportunitingchurch.org.au
SUMMARY:Sunday Service
DESCRIPTION:Our weekly worship held at our church in South Melbourne. Worship to nourish your soul and engage your senses.\nHoly Communion on the 1st Sunday of the month. \nWe are looking forward to seeing you\, all are welcome!
URL:https://stkildasouthportunitingchurch.org.au/event/sunday-service-2024-02-18/
LOCATION:South Melbourne\, 325 Dorcas St\, South Melbourne\, VIC\, 3205\, Australia
CATEGORIES:Church Service
ATTACH;FMTTYPE=image/jpeg:https://stkildasouthportunitingchurch.org.au/wp-content/uploads/2023/02/St-Kilda-South-Port-Uniting-Church-Morning-Service.jpg
END:VEVENT
BEGIN:VEVENT
DTSTART;TZID=Australia/Melbourne:20240211T100000
DTEND;TZID=Australia/Melbourne:20240211T110000
DTSTAMP:20260425T133945
CREATED:20240124T001924Z
LAST-MODIFIED:20240124T001924Z
UID:4307-1707645600-1707649200@stkildasouthportunitingchurch.org.au
SUMMARY:Sunday Service
DESCRIPTION:Our weekly worship held at our church in South Melbourne. Worship to nourish your soul and engage your senses.\nHoly Communion on the 1st Sunday of the month. \nWe are looking forward to seeing you\, all are welcome!
URL:https://stkildasouthportunitingchurch.org.au/event/sunday-service-2024-02-11/
LOCATION:South Melbourne\, 325 Dorcas St\, South Melbourne\, VIC\, 3205\, Australia
CATEGORIES:Church Service
ATTACH;FMTTYPE=image/jpeg:https://stkildasouthportunitingchurch.org.au/wp-content/uploads/2023/02/St-Kilda-South-Port-Uniting-Church-Morning-Service.jpg
END:VEVENT
BEGIN:VEVENT
DTSTART;TZID=Australia/Melbourne:20240204T100000
DTEND;TZID=Australia/Melbourne:20240204T110000
DTSTAMP:20260425T133945
CREATED:20240124T001828Z
LAST-MODIFIED:20240124T001828Z
UID:4305-1707040800-1707044400@stkildasouthportunitingchurch.org.au
SUMMARY:Sunday Service (with Communion)
DESCRIPTION:Our weekly worship held at our church in South Melbourne. Worship to nourish your soul and engage your senses.\nHoly Communion on the 1st Sunday of the month. \nWe are looking forward to seeing you\, all are welcome!
URL:https://stkildasouthportunitingchurch.org.au/event/sunday-service-2024-02-04/
LOCATION:South Melbourne\, 325 Dorcas St\, South Melbourne\, VIC\, 3205\, Australia
CATEGORIES:Church Service
ATTACH;FMTTYPE=image/jpeg:https://stkildasouthportunitingchurch.org.au/wp-content/uploads/2023/02/St-Kilda-South-Port-Uniting-Church-Morning-Service.jpg
END:VEVENT
BEGIN:VEVENT
DTSTART;TZID=Australia/Melbourne:20240128T100000
DTEND;TZID=Australia/Melbourne:20240128T110000
DTSTAMP:20260425T133945
CREATED:20231222T013017Z
LAST-MODIFIED:20231222T013017Z
UID:4287-1706436000-1706439600@stkildasouthportunitingchurch.org.au
SUMMARY:Sunday Service
DESCRIPTION:Our weekly worship held at our church in South Melbourne. Worship to nourish your soul and engage your senses.\nHoly Communion on the 1st Sunday of the month. \nWe are looking forward to seeing you\, all are welcome!
URL:https://stkildasouthportunitingchurch.org.au/event/sunday-service-2024-01-28/
LOCATION:South Melbourne\, 325 Dorcas St\, South Melbourne\, VIC\, 3205\, Australia
CATEGORIES:Church Service
ATTACH;FMTTYPE=image/jpeg:https://stkildasouthportunitingchurch.org.au/wp-content/uploads/2023/02/St-Kilda-South-Port-Uniting-Church-Morning-Service.jpg
END:VEVENT
BEGIN:VEVENT
DTSTART;TZID=Australia/Melbourne:20240121T100000
DTEND;TZID=Australia/Melbourne:20240121T110000
DTSTAMP:20260425T133945
CREATED:20231222T012939Z
LAST-MODIFIED:20231222T012939Z
UID:4285-1705831200-1705834800@stkildasouthportunitingchurch.org.au
SUMMARY:Sunday Service
DESCRIPTION:Our weekly worship held at our church in South Melbourne. Worship to nourish your soul and engage your senses.\nHoly Communion on the 1st Sunday of the month. \nWe are looking forward to seeing you\, all are welcome!
URL:https://stkildasouthportunitingchurch.org.au/event/sunday-service-2024-01-21/
LOCATION:South Melbourne\, 325 Dorcas St\, South Melbourne\, VIC\, 3205\, Australia
CATEGORIES:Church Service
ATTACH;FMTTYPE=image/jpeg:https://stkildasouthportunitingchurch.org.au/wp-content/uploads/2023/02/St-Kilda-South-Port-Uniting-Church-Morning-Service.jpg
END:VEVENT
BEGIN:VEVENT
DTSTART;TZID=Australia/Melbourne:20240114T100000
DTEND;TZID=Australia/Melbourne:20240114T110000
DTSTAMP:20260425T133945
CREATED:20231222T012900Z
LAST-MODIFIED:20231222T012900Z
UID:4283-1705226400-1705230000@stkildasouthportunitingchurch.org.au
SUMMARY:Sunday Service
DESCRIPTION:Our weekly worship held at our church in South Melbourne. Worship to nourish your soul and engage your senses.\nHoly Communion on the 1st Sunday of the month. \nWe are looking forward to seeing you\, all are welcome!
URL:https://stkildasouthportunitingchurch.org.au/event/sunday-service-2024-01-14/
LOCATION:South Melbourne\, 325 Dorcas St\, South Melbourne\, VIC\, 3205\, Australia
CATEGORIES:Church Service
ATTACH;FMTTYPE=image/jpeg:https://stkildasouthportunitingchurch.org.au/wp-content/uploads/2023/02/St-Kilda-South-Port-Uniting-Church-Morning-Service.jpg
END:VEVENT
BEGIN:VEVENT
DTSTART;TZID=Australia/Melbourne:20240107T100000
DTEND;TZID=Australia/Melbourne:20240107T110000
DTSTAMP:20260425T133945
CREATED:20231222T012809Z
LAST-MODIFIED:20231222T012809Z
UID:4281-1704621600-1704625200@stkildasouthportunitingchurch.org.au
SUMMARY:Sunday Service
DESCRIPTION:Our weekly worship held at our church in South Melbourne. Worship to nourish your soul and engage your senses.\nHoly Communion on the 1st Sunday of the month. \nWe are looking forward to seeing you\, all are welcome!
URL:https://stkildasouthportunitingchurch.org.au/event/sunday-service-2024-01-07/
LOCATION:South Melbourne\, 325 Dorcas St\, South Melbourne\, VIC\, 3205\, Australia
CATEGORIES:Church Service
ATTACH;FMTTYPE=image/jpeg:https://stkildasouthportunitingchurch.org.au/wp-content/uploads/2023/02/St-Kilda-South-Port-Uniting-Church-Morning-Service.jpg
END:VEVENT
BEGIN:VEVENT
DTSTART;TZID=Australia/Melbourne:20231231T100000
DTEND;TZID=Australia/Melbourne:20231231T110000
DTSTAMP:20260425T133945
CREATED:20231011T024627Z
LAST-MODIFIED:20231011T024627Z
UID:4175-1704016800-1704020400@stkildasouthportunitingchurch.org.au
SUMMARY:Sunday Service
DESCRIPTION:Our weekly worship held at our church in South Melbourne. Worship to nourish your soul and engage your senses.\nHoly Communion on the 1st Sunday of the month. \nWe are looking forward to seeing you\, all are welcome!
URL:https://stkildasouthportunitingchurch.org.au/event/sunday-service-2023-12-31/
LOCATION:South Melbourne\, 325 Dorcas St\, South Melbourne\, VIC\, 3205\, Australia
CATEGORIES:Church Service
ATTACH;FMTTYPE=image/jpeg:https://stkildasouthportunitingchurch.org.au/wp-content/uploads/2023/02/St-Kilda-South-Port-Uniting-Church-Morning-Service.jpg
END:VEVENT
BEGIN:VEVENT
DTSTART;TZID=Australia/Melbourne:20231225T093000
DTEND;TZID=Australia/Melbourne:20231225T103000
DTSTAMP:20260425T133945
CREATED:20231201T060259Z
LAST-MODIFIED:20231215T042422Z
UID:4254-1703496600-1703500200@stkildasouthportunitingchurch.org.au
SUMMARY:Christmas Day service
DESCRIPTION:Something new is being born …\nhere and now… in this place \nWelcome to your local sacred space this Christmas. \nCome join us for carols and calm\nand consolation and love and light … \n  \nChristmas Eve at 5pm Sunday 24th:\nCarols around the Cradle \nChristmas Day at 9.30 am:\nLove is Born \nBring a gift for our new free food pantry\nto keep people fed over summer.\nTake what you need – leave what you can
URL:https://stkildasouthportunitingchurch.org.au/event/sunday-service-2023-12-25/
LOCATION:South Melbourne\, 325 Dorcas St\, South Melbourne\, VIC\, 3205\, Australia
CATEGORIES:Church Service
ATTACH;FMTTYPE=image/jpeg:https://stkildasouthportunitingchurch.org.au/wp-content/uploads/2023/02/St-Kilda-South-Port-Uniting-Church-Morning-Service.jpg
END:VEVENT
BEGIN:VEVENT
DTSTART;TZID=Australia/Melbourne:20231224T170000
DTEND;TZID=Australia/Melbourne:20231224T180000
DTSTAMP:20260425T133945
CREATED:20231201T055938Z
LAST-MODIFIED:20231215T042332Z
UID:4252-1703437200-1703440800@stkildasouthportunitingchurch.org.au
SUMMARY:Christmas Eve service
DESCRIPTION:Something new is being born …\nhere and now… in this place \nWelcome to your local sacred space this Christmas. \nCome join us for carols and calm\nand consolation and love and light … \n  \nChristmas Eve at 5pm Sunday 24th:\nCarols around the Cradle \nChristmas Day at 9.30 am:\nLove is Born \nBring a gift for our new free food pantry\nto keep people fed over summer.\nTake what you need – leave what you can \n  \n  \n  \n  \n  \n 
URL:https://stkildasouthportunitingchurch.org.au/event/sunday-service-2023-12-24/
LOCATION:South Melbourne\, 325 Dorcas St\, South Melbourne\, VIC\, 3205\, Australia
CATEGORIES:Church Service
ATTACH;FMTTYPE=image/jpeg:https://stkildasouthportunitingchurch.org.au/wp-content/uploads/2023/02/St-Kilda-South-Port-Uniting-Church-Morning-Service.jpg
END:VEVENT
BEGIN:VEVENT
DTSTART;TZID=Australia/Melbourne:20231217T100000
DTEND;TZID=Australia/Melbourne:20231217T110000
DTSTAMP:20260425T133945
CREATED:20231011T024541Z
LAST-MODIFIED:20231011T024541Z
UID:4173-1702807200-1702810800@stkildasouthportunitingchurch.org.au
SUMMARY:Sunday Service
DESCRIPTION:Our weekly worship held at our church in South Melbourne. Worship to nourish your soul and engage your senses.\nHoly Communion on the 1st Sunday of the month. \nWe are looking forward to seeing you\, all are welcome!
URL:https://stkildasouthportunitingchurch.org.au/event/sunday-service-2023-12-17/
LOCATION:South Melbourne\, 325 Dorcas St\, South Melbourne\, VIC\, 3205\, Australia
CATEGORIES:Church Service
ATTACH;FMTTYPE=image/jpeg:https://stkildasouthportunitingchurch.org.au/wp-content/uploads/2023/02/St-Kilda-South-Port-Uniting-Church-Morning-Service.jpg
END:VEVENT
BEGIN:VEVENT
DTSTART;TZID=Australia/Melbourne:20231210T100000
DTEND;TZID=Australia/Melbourne:20231210T110000
DTSTAMP:20260425T133945
CREATED:20231011T024448Z
LAST-MODIFIED:20231011T024448Z
UID:4171-1702202400-1702206000@stkildasouthportunitingchurch.org.au
SUMMARY:Sunday Service
DESCRIPTION:Our weekly worship held at our church in South Melbourne. Worship to nourish your soul and engage your senses.\nHoly Communion on the 1st Sunday of the month. \nWe are looking forward to seeing you\, all are welcome!
URL:https://stkildasouthportunitingchurch.org.au/event/sunday-service-2023-12-10/
LOCATION:South Melbourne\, 325 Dorcas St\, South Melbourne\, VIC\, 3205\, Australia
CATEGORIES:Church Service
ATTACH;FMTTYPE=image/jpeg:https://stkildasouthportunitingchurch.org.au/wp-content/uploads/2023/02/St-Kilda-South-Port-Uniting-Church-Morning-Service.jpg
END:VEVENT
BEGIN:VEVENT
DTSTART;TZID=Australia/Melbourne:20231203T100000
DTEND;TZID=Australia/Melbourne:20231203T110000
DTSTAMP:20260425T133945
CREATED:20231011T024359Z
LAST-MODIFIED:20231011T024359Z
UID:4169-1701597600-1701601200@stkildasouthportunitingchurch.org.au
SUMMARY:Sunday Service
DESCRIPTION:Our weekly worship held at our church in South Melbourne. Worship to nourish your soul and engage your senses.\nHoly Communion on the 1st Sunday of the month. \nWe are looking forward to seeing you\, all are welcome!
URL:https://stkildasouthportunitingchurch.org.au/event/sunday-service-2023-12-03/
LOCATION:South Melbourne\, 325 Dorcas St\, South Melbourne\, VIC\, 3205\, Australia
CATEGORIES:Church Service
ATTACH;FMTTYPE=image/jpeg:https://stkildasouthportunitingchurch.org.au/wp-content/uploads/2023/02/St-Kilda-South-Port-Uniting-Church-Morning-Service.jpg
END:VEVENT
BEGIN:VEVENT
DTSTART;TZID=Australia/Melbourne:20231126T100000
DTEND;TZID=Australia/Melbourne:20231126T110000
DTSTAMP:20260425T133945
CREATED:20231011T023425Z
LAST-MODIFIED:20231011T023425Z
UID:4157-1700992800-1700996400@stkildasouthportunitingchurch.org.au
SUMMARY:Sunday Service
DESCRIPTION:Our weekly worship held at our church in South Melbourne. Worship to nourish your soul and engage your senses.\nHoly Communion on the 1st Sunday of the month. \nWe are looking forward to seeing you\, all are welcome!
URL:https://stkildasouthportunitingchurch.org.au/event/sunday-service-2023-11-26/
LOCATION:South Melbourne\, 325 Dorcas St\, South Melbourne\, VIC\, 3205\, Australia
CATEGORIES:Church Service
ATTACH;FMTTYPE=image/jpeg:https://stkildasouthportunitingchurch.org.au/wp-content/uploads/2023/02/St-Kilda-South-Port-Uniting-Church-Morning-Service.jpg
END:VEVENT
BEGIN:VEVENT
DTSTART;TZID=Australia/Melbourne:20231119T100000
DTEND;TZID=Australia/Melbourne:20231119T110000
DTSTAMP:20260425T133945
CREATED:20231011T023330Z
LAST-MODIFIED:20231011T023330Z
UID:4155-1700388000-1700391600@stkildasouthportunitingchurch.org.au
SUMMARY:Sunday Service
DESCRIPTION:Our weekly worship held at our church in South Melbourne. Worship to nourish your soul and engage your senses.\nHoly Communion on the 1st Sunday of the month. \nWe are looking forward to seeing you\, all are welcome!
URL:https://stkildasouthportunitingchurch.org.au/event/sunday-service-2023-11-19/
LOCATION:South Melbourne\, 325 Dorcas St\, South Melbourne\, VIC\, 3205\, Australia
CATEGORIES:Church Service
ATTACH;FMTTYPE=image/jpeg:https://stkildasouthportunitingchurch.org.au/wp-content/uploads/2023/02/St-Kilda-South-Port-Uniting-Church-Morning-Service.jpg
END:VEVENT
BEGIN:VEVENT
DTSTART;TZID=Australia/Melbourne:20231112T100000
DTEND;TZID=Australia/Melbourne:20231112T110000
DTSTAMP:20260425T133945
CREATED:20231011T023244Z
LAST-MODIFIED:20231011T023244Z
UID:4153-1699783200-1699786800@stkildasouthportunitingchurch.org.au
SUMMARY:Sunday Service
DESCRIPTION:Our weekly worship held at our church in South Melbourne. Worship to nourish your soul and engage your senses.\nHoly Communion on the 1st Sunday of the month. \nWe are looking forward to seeing you\, all are welcome!
URL:https://stkildasouthportunitingchurch.org.au/event/sunday-service-2023-11-12/
LOCATION:South Melbourne\, 325 Dorcas St\, South Melbourne\, VIC\, 3205\, Australia
CATEGORIES:Church Service
ATTACH;FMTTYPE=image/jpeg:https://stkildasouthportunitingchurch.org.au/wp-content/uploads/2023/02/St-Kilda-South-Port-Uniting-Church-Morning-Service.jpg
END:VEVENT
BEGIN:VEVENT
DTSTART;TZID=Australia/Melbourne:20231105T100000
DTEND;TZID=Australia/Melbourne:20231105T110000
DTSTAMP:20260425T133945
CREATED:20231011T022532Z
LAST-MODIFIED:20231011T022532Z
UID:4140-1699178400-1699182000@stkildasouthportunitingchurch.org.au
SUMMARY:Sunday Service
DESCRIPTION:Our weekly worship held at our church in South Melbourne. Worship to nourish your soul and engage your senses.\nHoly Communion on the 1st Sunday of the month. \nWe are looking forward to seeing you\, all are welcome!
URL:https://stkildasouthportunitingchurch.org.au/event/sunday-service-2023-11-05/
LOCATION:South Melbourne\, 325 Dorcas St\, South Melbourne\, VIC\, 3205\, Australia
CATEGORIES:Church Service
ATTACH;FMTTYPE=image/jpeg:https://stkildasouthportunitingchurch.org.au/wp-content/uploads/2023/02/St-Kilda-South-Port-Uniting-Church-Morning-Service.jpg
END:VEVENT
BEGIN:VEVENT
DTSTART;TZID=Australia/Melbourne:20231029T100000
DTEND;TZID=Australia/Melbourne:20231029T110000
DTSTAMP:20260425T133945
CREATED:20230927T065033Z
LAST-MODIFIED:20230927T065033Z
UID:4118-1698573600-1698577200@stkildasouthportunitingchurch.org.au
SUMMARY:Sunday Service
DESCRIPTION:Our weekly worship held at our church in South Melbourne. Worship to nourish your soul and engage your senses.\nHoly Communion on the 1st Sunday of the month. \nWe are looking forward to seeing you\, all are welcome!
URL:https://stkildasouthportunitingchurch.org.au/event/sunday-service-2023-10-29/
LOCATION:South Melbourne\, 325 Dorcas St\, South Melbourne\, VIC\, 3205\, Australia
CATEGORIES:Church Service
ATTACH;FMTTYPE=image/jpeg:https://stkildasouthportunitingchurch.org.au/wp-content/uploads/2023/02/St-Kilda-South-Port-Uniting-Church-Morning-Service.jpg
END:VEVENT
BEGIN:VEVENT
DTSTART;TZID=Australia/Melbourne:20231022T100000
DTEND;TZID=Australia/Melbourne:20231022T110000
DTSTAMP:20260425T133945
CREATED:20230927T064951Z
LAST-MODIFIED:20230927T064951Z
UID:4116-1697968800-1697972400@stkildasouthportunitingchurch.org.au
SUMMARY:Sunday Service
DESCRIPTION:Our weekly worship held at our church in South Melbourne. Worship to nourish your soul and engage your senses.\nHoly Communion on the 1st Sunday of the month. \nWe are looking forward to seeing you\, all are welcome!
URL:https://stkildasouthportunitingchurch.org.au/event/sunday-service-2023-10-22/
LOCATION:South Melbourne\, 325 Dorcas St\, South Melbourne\, VIC\, 3205\, Australia
CATEGORIES:Church Service
ATTACH;FMTTYPE=image/jpeg:https://stkildasouthportunitingchurch.org.au/wp-content/uploads/2023/02/St-Kilda-South-Port-Uniting-Church-Morning-Service.jpg
END:VEVENT
BEGIN:VEVENT
DTSTART;TZID=Australia/Melbourne:20231015T100000
DTEND;TZID=Australia/Melbourne:20231015T110000
DTSTAMP:20260425T133945
CREATED:20230927T064901Z
LAST-MODIFIED:20230927T064901Z
UID:4114-1697364000-1697367600@stkildasouthportunitingchurch.org.au
SUMMARY:Sunday Service
DESCRIPTION:Our weekly worship held at our church in South Melbourne. Worship to nourish your soul and engage your senses.\nHoly Communion on the 1st Sunday of the month. \nWe are looking forward to seeing you\, all are welcome!
URL:https://stkildasouthportunitingchurch.org.au/event/sunday-service-2023-10-15/
LOCATION:South Melbourne\, 325 Dorcas St\, South Melbourne\, VIC\, 3205\, Australia
CATEGORIES:Church Service
ATTACH;FMTTYPE=image/jpeg:https://stkildasouthportunitingchurch.org.au/wp-content/uploads/2023/02/St-Kilda-South-Port-Uniting-Church-Morning-Service.jpg
END:VEVENT
BEGIN:VEVENT
DTSTART;TZID=Australia/Melbourne:20231008T100000
DTEND;TZID=Australia/Melbourne:20231008T110000
DTSTAMP:20260425T133945
CREATED:20230927T064824Z
LAST-MODIFIED:20230927T064824Z
UID:4111-1696759200-1696762800@stkildasouthportunitingchurch.org.au
SUMMARY:Sunday Service
DESCRIPTION:Our weekly worship held at our church in South Melbourne. Worship to nourish your soul and engage your senses.\nHoly Communion on the 1st Sunday of the month. \nWe are looking forward to seeing you\, all are welcome!
URL:https://stkildasouthportunitingchurch.org.au/event/sunday-service-2023-10-08/
LOCATION:South Melbourne\, 325 Dorcas St\, South Melbourne\, VIC\, 3205\, Australia
CATEGORIES:Church Service
ATTACH;FMTTYPE=image/jpeg:https://stkildasouthportunitingchurch.org.au/wp-content/uploads/2023/02/St-Kilda-South-Port-Uniting-Church-Morning-Service.jpg
END:VEVENT
BEGIN:VEVENT
DTSTART;TZID=Australia/Melbourne:20231001T100000
DTEND;TZID=Australia/Melbourne:20231001T110000
DTSTAMP:20260425T133945
CREATED:20230927T064740Z
LAST-MODIFIED:20230927T064740Z
UID:4108-1696154400-1696158000@stkildasouthportunitingchurch.org.au
SUMMARY:Sunday Service
DESCRIPTION:Our weekly worship held at our church in South Melbourne. Worship to nourish your soul and engage your senses.\nHoly Communion on the 1st Sunday of the month. \nSunday 1st October\, bring your furry\, feathered or finned companions for an Animal Blessing (or bring a photo!) \nWe are looking forward to seeing you\, all are welcome!
URL:https://stkildasouthportunitingchurch.org.au/event/sunday-service-2023-10-01/
LOCATION:South Melbourne\, 325 Dorcas St\, South Melbourne\, VIC\, 3205\, Australia
CATEGORIES:Church Service
ATTACH;FMTTYPE=image/jpeg:https://stkildasouthportunitingchurch.org.au/wp-content/uploads/2023/02/St-Kilda-South-Port-Uniting-Church-Morning-Service.jpg
END:VEVENT
BEGIN:VEVENT
DTSTART;TZID=Australia/Melbourne:20230924T100000
DTEND;TZID=Australia/Melbourne:20230924T110000
DTSTAMP:20260425T133945
CREATED:20230901T034517Z
LAST-MODIFIED:20230901T034517Z
UID:4043-1695549600-1695553200@stkildasouthportunitingchurch.org.au
SUMMARY:Sunday Service
DESCRIPTION:Our weekly worship held at our church in South Melbourne. Worship to nourish your soul and engage your senses.\nHoly Communion on the 1st Sunday of the month. \nWe are looking forward to seeing you\, all are welcome!
URL:https://stkildasouthportunitingchurch.org.au/event/sunday-service-2023-09-24/
LOCATION:South Melbourne\, 325 Dorcas St\, South Melbourne\, VIC\, 3205\, Australia
CATEGORIES:Church Service
ATTACH;FMTTYPE=image/jpeg:https://stkildasouthportunitingchurch.org.au/wp-content/uploads/2023/02/St-Kilda-South-Port-Uniting-Church-Morning-Service.jpg
END:VEVENT
BEGIN:VEVENT
DTSTART;TZID=Australia/Melbourne:20230917T100000
DTEND;TZID=Australia/Melbourne:20230917T110000
DTSTAMP:20260425T133945
CREATED:20230901T034441Z
LAST-MODIFIED:20230901T034441Z
UID:4041-1694944800-1694948400@stkildasouthportunitingchurch.org.au
SUMMARY:Sunday Service
DESCRIPTION:Our weekly worship held at our church in South Melbourne. Worship to nourish your soul and engage your senses.\nHoly Communion on the 1st Sunday of the month. \nWe are looking forward to seeing you\, all are welcome!
URL:https://stkildasouthportunitingchurch.org.au/event/sunday-service-2023-09-17/
LOCATION:South Melbourne\, 325 Dorcas St\, South Melbourne\, VIC\, 3205\, Australia
CATEGORIES:Church Service
ATTACH;FMTTYPE=image/jpeg:https://stkildasouthportunitingchurch.org.au/wp-content/uploads/2023/02/St-Kilda-South-Port-Uniting-Church-Morning-Service.jpg
END:VEVENT
BEGIN:VEVENT
DTSTART;TZID=Australia/Melbourne:20230910T100000
DTEND;TZID=Australia/Melbourne:20230910T110000
DTSTAMP:20260425T133945
CREATED:20230901T034310Z
LAST-MODIFIED:20230901T034310Z
UID:4039-1694340000-1694343600@stkildasouthportunitingchurch.org.au
SUMMARY:Sunday Service
DESCRIPTION:Our weekly worship held at our church in South Melbourne. Worship to nourish your soul and engage your senses.\nHoly Communion on the 1st Sunday of the month. \nWe are looking forward to seeing you\, all are welcome!
URL:https://stkildasouthportunitingchurch.org.au/event/sunday-service-2023-09-10/
LOCATION:South Melbourne\, 325 Dorcas St\, South Melbourne\, VIC\, 3205\, Australia
CATEGORIES:Church Service
ATTACH;FMTTYPE=image/jpeg:https://stkildasouthportunitingchurch.org.au/wp-content/uploads/2023/02/St-Kilda-South-Port-Uniting-Church-Morning-Service.jpg
END:VEVENT
BEGIN:VEVENT
DTSTART;TZID=Australia/Melbourne:20230903T100000
DTEND;TZID=Australia/Melbourne:20230903T110000
DTSTAMP:20260425T133945
CREATED:20230901T034213Z
LAST-MODIFIED:20230901T034357Z
UID:4037-1693735200-1693738800@stkildasouthportunitingchurch.org.au
SUMMARY:Sunday Service
DESCRIPTION:Our weekly worship held at our church in South Melbourne. Worship to nourish your soul and engage your senses.\nHoly Communion on the 1st Sunday of the month. \nWe are looking forward to seeing you\, all are welcome!
URL:https://stkildasouthportunitingchurch.org.au/event/sunday-service-2023-09-03/
LOCATION:South Melbourne\, 325 Dorcas St\, South Melbourne\, VIC\, 3205\, Australia
CATEGORIES:Church Service
ATTACH;FMTTYPE=image/jpeg:https://stkildasouthportunitingchurch.org.au/wp-content/uploads/2023/02/St-Kilda-South-Port-Uniting-Church-Morning-Service.jpg
END:VEVENT
BEGIN:VEVENT
DTSTART;TZID=Australia/Melbourne:20230827T100000
DTEND;TZID=Australia/Melbourne:20230827T110000
DTSTAMP:20260425T133945
CREATED:20230719T000019Z
LAST-MODIFIED:20230719T000019Z
UID:4020-1693130400-1693134000@stkildasouthportunitingchurch.org.au
SUMMARY:Sunday Service
DESCRIPTION:Our weekly worship held at our church in South Melbourne. Worship to nourish your soul and engage your senses.\nHoly Communion on the 1st Sunday of the month. \nWe are looking forward to seeing you\, all are welcome!
URL:https://stkildasouthportunitingchurch.org.au/event/sunday-service-2023-08-27/
LOCATION:South Melbourne\, 325 Dorcas St\, South Melbourne\, VIC\, 3205\, Australia
CATEGORIES:Church Service
ATTACH;FMTTYPE=image/jpeg:https://stkildasouthportunitingchurch.org.au/wp-content/uploads/2023/02/St-Kilda-South-Port-Uniting-Church-Morning-Service.jpg
END:VEVENT
BEGIN:VEVENT
DTSTART;TZID=Australia/Melbourne:20230820T100000
DTEND;TZID=Australia/Melbourne:20230820T110000
DTSTAMP:20260425T133945
CREATED:20230718T235911Z
LAST-MODIFIED:20230718T235911Z
UID:4018-1692525600-1692529200@stkildasouthportunitingchurch.org.au
SUMMARY:Sunday Service
DESCRIPTION:Our weekly worship held at our church in South Melbourne. Worship to nourish your soul and engage your senses.\nHoly Communion on the 1st Sunday of the month. \nWe are looking forward to seeing you\, all are welcome!
URL:https://stkildasouthportunitingchurch.org.au/event/sunday-service-2023-08-20/
LOCATION:South Melbourne\, 325 Dorcas St\, South Melbourne\, VIC\, 3205\, Australia
CATEGORIES:Church Service
ATTACH;FMTTYPE=image/jpeg:https://stkildasouthportunitingchurch.org.au/wp-content/uploads/2023/02/St-Kilda-South-Port-Uniting-Church-Morning-Service.jpg
END:VEVENT
END:VCALENDAR