BEGIN:VCALENDAR
VERSION:2.0
PRODID:-//St Kilda Uniting Church - ECPv6.15.16//NONSGML v1.0//EN
CALSCALE:GREGORIAN
METHOD:PUBLISH
X-ORIGINAL-URL:https://stkildasouthportunitingchurch.org.au
X-WR-CALDESC:Events for St Kilda Uniting Church
REFRESH-INTERVAL;VALUE=DURATION:PT1H
X-Robots-Tag:noindex
X-PUBLISHED-TTL:PT1H
BEGIN:VTIMEZONE
TZID:Australia/Melbourne
BEGIN:STANDARD
TZOFFSETFROM:+1100
TZOFFSETTO:+1000
TZNAME:AEST
DTSTART:20240406T160000
END:STANDARD
BEGIN:DAYLIGHT
TZOFFSETFROM:+1000
TZOFFSETTO:+1100
TZNAME:AEDT
DTSTART:20241005T160000
END:DAYLIGHT
BEGIN:STANDARD
TZOFFSETFROM:+1100
TZOFFSETTO:+1000
TZNAME:AEST
DTSTART:20250405T160000
END:STANDARD
BEGIN:DAYLIGHT
TZOFFSETFROM:+1000
TZOFFSETTO:+1100
TZNAME:AEDT
DTSTART:20251004T160000
END:DAYLIGHT
BEGIN:STANDARD
TZOFFSETFROM:+1100
TZOFFSETTO:+1000
TZNAME:AEST
DTSTART:20260404T160000
END:STANDARD
BEGIN:DAYLIGHT
TZOFFSETFROM:+1000
TZOFFSETTO:+1100
TZNAME:AEDT
DTSTART:20261003T160000
END:DAYLIGHT
END:VTIMEZONE
BEGIN:VEVENT
DTSTART;TZID=Australia/Melbourne:20251130T100000
DTEND;TZID=Australia/Melbourne:20251130T110000
DTSTAMP:20260424T234312
CREATED:20251031T044108Z
LAST-MODIFIED:20251031T044108Z
UID:5396-1764496800-1764500400@stkildasouthportunitingchurch.org.au
SUMMARY:Sunday Service
DESCRIPTION:Our weekly worship held at our church in South Melbourne.  Worship to nourish your soul and engage your senses. \nHoly Communion on the 1st Sunday of the month. \nWe are looking forward to seeing you\, all are welcome!
URL:https://stkildasouthportunitingchurch.org.au/event/sunday-service-2025-11-30/
LOCATION:South Melbourne\, 325 Dorcas St\, South Melbourne\, VIC\, 3205\, Australia
CATEGORIES:Church Service
ATTACH;FMTTYPE=image/jpeg:https://stkildasouthportunitingchurch.org.au/wp-content/uploads/2023/02/St-Kilda-South-Port-Uniting-Church-Morning-Service.jpg
END:VEVENT
BEGIN:VEVENT
DTSTART;TZID=Australia/Melbourne:20251123T100000
DTEND;TZID=Australia/Melbourne:20251123T110000
DTSTAMP:20260424T234312
CREATED:20251031T044022Z
LAST-MODIFIED:20251031T044022Z
UID:5394-1763892000-1763895600@stkildasouthportunitingchurch.org.au
SUMMARY:Sunday Service
DESCRIPTION:Our weekly worship held at our church in South Melbourne.  Worship to nourish your soul and engage your senses. \nHoly Communion on the 1st Sunday of the month. \nWe are looking forward to seeing you\, all are welcome!
URL:https://stkildasouthportunitingchurch.org.au/event/sunday-service-2025-11-23/
LOCATION:South Melbourne\, 325 Dorcas St\, South Melbourne\, VIC\, 3205\, Australia
CATEGORIES:Church Service
ATTACH;FMTTYPE=image/jpeg:https://stkildasouthportunitingchurch.org.au/wp-content/uploads/2023/02/St-Kilda-South-Port-Uniting-Church-Morning-Service.jpg
END:VEVENT
BEGIN:VEVENT
DTSTART;TZID=Australia/Melbourne:20251116T100000
DTEND;TZID=Australia/Melbourne:20251116T110000
DTSTAMP:20260424T234312
CREATED:20251031T043928Z
LAST-MODIFIED:20251031T043928Z
UID:5392-1763287200-1763290800@stkildasouthportunitingchurch.org.au
SUMMARY:Sunday Service
DESCRIPTION:Our weekly worship held at our church in South Melbourne.  Worship to nourish your soul and engage your senses. \nHoly Communion on the 1st Sunday of the month. \nWe are looking forward to seeing you\, all are welcome!
URL:https://stkildasouthportunitingchurch.org.au/event/sunday-service-2025-11-16/
LOCATION:South Melbourne\, 325 Dorcas St\, South Melbourne\, VIC\, 3205\, Australia
CATEGORIES:Church Service
ATTACH;FMTTYPE=image/jpeg:https://stkildasouthportunitingchurch.org.au/wp-content/uploads/2023/02/St-Kilda-South-Port-Uniting-Church-Morning-Service.jpg
END:VEVENT
BEGIN:VEVENT
DTSTART;TZID=Australia/Melbourne:20251109T100000
DTEND;TZID=Australia/Melbourne:20251109T110000
DTSTAMP:20260424T234312
CREATED:20251031T043813Z
LAST-MODIFIED:20251031T043813Z
UID:5390-1762682400-1762686000@stkildasouthportunitingchurch.org.au
SUMMARY:Sunday Service
DESCRIPTION:Our weekly worship held at our church in South Melbourne.  Worship to nourish your soul and engage your senses. \nHoly Communion on the 1st Sunday of the month. \nWe are looking forward to seeing you\, all are welcome!
URL:https://stkildasouthportunitingchurch.org.au/event/sunday-service-4/
LOCATION:South Melbourne\, 325 Dorcas St\, South Melbourne\, VIC\, 3205\, Australia
CATEGORIES:Church Service
ATTACH;FMTTYPE=image/jpeg:https://stkildasouthportunitingchurch.org.au/wp-content/uploads/2023/02/St-Kilda-South-Port-Uniting-Church-Morning-Service.jpg
END:VEVENT
BEGIN:VEVENT
DTSTART;TZID=Australia/Melbourne:20251102T100000
DTEND;TZID=Australia/Melbourne:20251102T110000
DTSTAMP:20260424T234312
CREATED:20251003T072837Z
LAST-MODIFIED:20251003T072837Z
UID:5349-1762077600-1762081200@stkildasouthportunitingchurch.org.au
SUMMARY:Sunday Service
DESCRIPTION:Our weekly worship held at our church in South Melbourne.  Worship to nourish your soul and engage your senses. \nHoly Communion on the 1st Sunday of the month. \nWe are looking forward to seeing you\, all are welcome!
URL:https://stkildasouthportunitingchurch.org.au/event/sunday-service-2025-11-02/
LOCATION:South Melbourne\, 325 Dorcas St\, South Melbourne\, VIC\, 3205\, Australia
CATEGORIES:Church Service
ATTACH;FMTTYPE=image/jpeg:https://stkildasouthportunitingchurch.org.au/wp-content/uploads/2023/02/St-Kilda-South-Port-Uniting-Church-Morning-Service.jpg
END:VEVENT
BEGIN:VEVENT
DTSTART;TZID=Australia/Melbourne:20251026T100000
DTEND;TZID=Australia/Melbourne:20251026T110000
DTSTAMP:20260424T234312
CREATED:20251003T072725Z
LAST-MODIFIED:20251003T072725Z
UID:5347-1761472800-1761476400@stkildasouthportunitingchurch.org.au
SUMMARY:Sunday Service
DESCRIPTION:Our weekly worship held at our church in South Melbourne.  Worship to nourish your soul and engage your senses. \nHoly Communion on the 1st Sunday of the month. \nWe are looking forward to seeing you\, all are welcome!
URL:https://stkildasouthportunitingchurch.org.au/event/sunday-service-2025-10-26/
LOCATION:South Melbourne\, 325 Dorcas St\, South Melbourne\, VIC\, 3205\, Australia
CATEGORIES:Church Service
ATTACH;FMTTYPE=image/jpeg:https://stkildasouthportunitingchurch.org.au/wp-content/uploads/2023/02/St-Kilda-South-Port-Uniting-Church-Morning-Service.jpg
END:VEVENT
BEGIN:VEVENT
DTSTART;TZID=Australia/Melbourne:20251019T100000
DTEND;TZID=Australia/Melbourne:20251019T110000
DTSTAMP:20260424T234312
CREATED:20251003T072640Z
LAST-MODIFIED:20251003T072640Z
UID:5345-1760868000-1760871600@stkildasouthportunitingchurch.org.au
SUMMARY:Sunday Service
DESCRIPTION:Our weekly worship held at our church in South Melbourne.  Worship to nourish your soul and engage your senses. \nHoly Communion on the 1st Sunday of the month. \nWe are looking forward to seeing you\, all are welcome!
URL:https://stkildasouthportunitingchurch.org.au/event/sunday-service-2025-10-19/
LOCATION:South Melbourne\, 325 Dorcas St\, South Melbourne\, VIC\, 3205\, Australia
CATEGORIES:Church Service
ATTACH;FMTTYPE=image/jpeg:https://stkildasouthportunitingchurch.org.au/wp-content/uploads/2023/02/St-Kilda-South-Port-Uniting-Church-Morning-Service.jpg
END:VEVENT
BEGIN:VEVENT
DTSTART;TZID=Australia/Melbourne:20251012T100000
DTEND;TZID=Australia/Melbourne:20251012T110000
DTSTAMP:20260424T234312
CREATED:20251003T072602Z
LAST-MODIFIED:20251003T072602Z
UID:5343-1760263200-1760266800@stkildasouthportunitingchurch.org.au
SUMMARY:Sunday Service
DESCRIPTION:Our weekly worship held at our church in South Melbourne.  Worship to nourish your soul and engage your senses. \nHoly Communion on the 1st Sunday of the month. \nWe are looking forward to seeing you\, all are welcome!
URL:https://stkildasouthportunitingchurch.org.au/event/sunday-service-2025-10-12/
LOCATION:South Melbourne\, 325 Dorcas St\, South Melbourne\, VIC\, 3205\, Australia
CATEGORIES:Church Service
ATTACH;FMTTYPE=image/jpeg:https://stkildasouthportunitingchurch.org.au/wp-content/uploads/2023/02/St-Kilda-South-Port-Uniting-Church-Morning-Service.jpg
END:VEVENT
BEGIN:VEVENT
DTSTART;TZID=Australia/Melbourne:20251005T100000
DTEND;TZID=Australia/Melbourne:20251005T110000
DTSTAMP:20260424T234312
CREATED:20250829T075550Z
LAST-MODIFIED:20250829T075550Z
UID:5295-1759658400-1759662000@stkildasouthportunitingchurch.org.au
SUMMARY:Sunday Service
DESCRIPTION:Our weekly worship held at our church in South Melbourne.  Worship to nourish your soul and engage your senses. \nHoly Communion on the 1st Sunday of the month. \nWe are looking forward to seeing you\, all are welcome!
URL:https://stkildasouthportunitingchurch.org.au/event/sunday-service-2025-10-05/
LOCATION:South Melbourne\, 325 Dorcas St\, South Melbourne\, VIC\, 3205\, Australia
CATEGORIES:Church Service
ATTACH;FMTTYPE=image/jpeg:https://stkildasouthportunitingchurch.org.au/wp-content/uploads/2023/02/St-Kilda-South-Port-Uniting-Church-Morning-Service.jpg
END:VEVENT
BEGIN:VEVENT
DTSTART;TZID=Australia/Melbourne:20250928T100000
DTEND;TZID=Australia/Melbourne:20250928T110000
DTSTAMP:20260424T234312
CREATED:20250829T075505Z
LAST-MODIFIED:20250829T075505Z
UID:5293-1759053600-1759057200@stkildasouthportunitingchurch.org.au
SUMMARY:Sunday Service
DESCRIPTION:Our weekly worship held at our church in South Melbourne.  Worship to nourish your soul and engage your senses. \nHoly Communion on the 1st Sunday of the month. \nWe are looking forward to seeing you\, all are welcome!
URL:https://stkildasouthportunitingchurch.org.au/event/sunday-service-2025-09-28/
LOCATION:South Melbourne\, 325 Dorcas St\, South Melbourne\, VIC\, 3205\, Australia
CATEGORIES:Church Service
ATTACH;FMTTYPE=image/jpeg:https://stkildasouthportunitingchurch.org.au/wp-content/uploads/2023/02/St-Kilda-South-Port-Uniting-Church-Morning-Service.jpg
END:VEVENT
BEGIN:VEVENT
DTSTART;TZID=Australia/Melbourne:20250921T100000
DTEND;TZID=Australia/Melbourne:20250921T110000
DTSTAMP:20260424T234312
CREATED:20250829T075421Z
LAST-MODIFIED:20250829T075421Z
UID:5291-1758448800-1758452400@stkildasouthportunitingchurch.org.au
SUMMARY:Sunday Service
DESCRIPTION:Our weekly worship held at our church in South Melbourne.  Worship to nourish your soul and engage your senses. \nHoly Communion on the 1st Sunday of the month. \nWe are looking forward to seeing you\, all are welcome!
URL:https://stkildasouthportunitingchurch.org.au/event/sunday-service-2025-09-21/
LOCATION:South Melbourne\, 325 Dorcas St\, South Melbourne\, VIC\, 3205\, Australia
CATEGORIES:Church Service
ATTACH;FMTTYPE=image/jpeg:https://stkildasouthportunitingchurch.org.au/wp-content/uploads/2023/02/St-Kilda-South-Port-Uniting-Church-Morning-Service.jpg
END:VEVENT
BEGIN:VEVENT
DTSTART;TZID=Australia/Melbourne:20250914T100000
DTEND;TZID=Australia/Melbourne:20250914T110000
DTSTAMP:20260424T234312
CREATED:20250829T075337Z
LAST-MODIFIED:20250829T075337Z
UID:5289-1757844000-1757847600@stkildasouthportunitingchurch.org.au
SUMMARY:Sunday Service
DESCRIPTION:Our weekly worship held at our church in South Melbourne.  Worship to nourish your soul and engage your senses. \nHoly Communion on the 1st Sunday of the month. \nWe are looking forward to seeing you\, all are welcome!
URL:https://stkildasouthportunitingchurch.org.au/event/sunday-service-2025-09-14/
LOCATION:South Melbourne\, 325 Dorcas St\, South Melbourne\, VIC\, 3205\, Australia
CATEGORIES:Church Service
ATTACH;FMTTYPE=image/jpeg:https://stkildasouthportunitingchurch.org.au/wp-content/uploads/2023/02/St-Kilda-South-Port-Uniting-Church-Morning-Service.jpg
END:VEVENT
BEGIN:VEVENT
DTSTART;TZID=Australia/Melbourne:20250907T100000
DTEND;TZID=Australia/Melbourne:20250907T110000
DTSTAMP:20260424T234312
CREATED:20250829T075255Z
LAST-MODIFIED:20250829T075255Z
UID:5287-1757239200-1757242800@stkildasouthportunitingchurch.org.au
SUMMARY:Sunday Service
DESCRIPTION:Our weekly worship held at our church in South Melbourne.  Worship to nourish your soul and engage your senses. \nHoly Communion on the 1st Sunday of the month. \nWe are looking forward to seeing you\, all are welcome!
URL:https://stkildasouthportunitingchurch.org.au/event/sunday-service-2025-09-07/
LOCATION:South Melbourne\, 325 Dorcas St\, South Melbourne\, VIC\, 3205\, Australia
CATEGORIES:Church Service
ATTACH;FMTTYPE=image/jpeg:https://stkildasouthportunitingchurch.org.au/wp-content/uploads/2023/02/St-Kilda-South-Port-Uniting-Church-Morning-Service.jpg
END:VEVENT
BEGIN:VEVENT
DTSTART;TZID=Australia/Melbourne:20250831T100000
DTEND;TZID=Australia/Melbourne:20250831T110000
DTSTAMP:20260424T234312
CREATED:20250725T073841Z
LAST-MODIFIED:20250725T073841Z
UID:5213-1756634400-1756638000@stkildasouthportunitingchurch.org.au
SUMMARY:Sunday Service
DESCRIPTION:Our weekly worship held at our church in South Melbourne.  Worship to nourish your soul and engage your senses. \nHoly Communion on the 1st Sunday of the month. \nWe are looking forward to seeing you\, all are welcome!
URL:https://stkildasouthportunitingchurch.org.au/event/sunday-service-2025-08-31/
LOCATION:South Melbourne\, 325 Dorcas St\, South Melbourne\, VIC\, 3205\, Australia
CATEGORIES:Church Service
ATTACH;FMTTYPE=image/jpeg:https://stkildasouthportunitingchurch.org.au/wp-content/uploads/2023/02/St-Kilda-South-Port-Uniting-Church-Morning-Service.jpg
END:VEVENT
BEGIN:VEVENT
DTSTART;TZID=Australia/Melbourne:20250824T100000
DTEND;TZID=Australia/Melbourne:20250824T110000
DTSTAMP:20260424T234312
CREATED:20250725T073253Z
LAST-MODIFIED:20250725T073253Z
UID:5211-1756029600-1756033200@stkildasouthportunitingchurch.org.au
SUMMARY:Sunday Service
DESCRIPTION:Our weekly worship held at our church in South Melbourne.  Worship to nourish your soul and engage your senses. \nHoly Communion on the 1st Sunday of the month. \nWe are looking forward to seeing you\, all are welcome!
URL:https://stkildasouthportunitingchurch.org.au/event/sunday-service-2025-08-24/
LOCATION:South Melbourne\, 325 Dorcas St\, South Melbourne\, VIC\, 3205\, Australia
CATEGORIES:Church Service
ATTACH;FMTTYPE=image/jpeg:https://stkildasouthportunitingchurch.org.au/wp-content/uploads/2023/02/St-Kilda-South-Port-Uniting-Church-Morning-Service.jpg
END:VEVENT
BEGIN:VEVENT
DTSTART;TZID=Australia/Melbourne:20250817T100000
DTEND;TZID=Australia/Melbourne:20250817T110000
DTSTAMP:20260424T234312
CREATED:20250725T073210Z
LAST-MODIFIED:20250725T073210Z
UID:5209-1755424800-1755428400@stkildasouthportunitingchurch.org.au
SUMMARY:Sunday Service
DESCRIPTION:Our weekly worship held at our church in South Melbourne.  Worship to nourish your soul and engage your senses. \nHoly Communion on the 1st Sunday of the month. \nWe are looking forward to seeing you\, all are welcome!
URL:https://stkildasouthportunitingchurch.org.au/event/sunday-service-2025-08-17/
LOCATION:South Melbourne\, 325 Dorcas St\, South Melbourne\, VIC\, 3205\, Australia
CATEGORIES:Church Service
ATTACH;FMTTYPE=image/jpeg:https://stkildasouthportunitingchurch.org.au/wp-content/uploads/2023/02/St-Kilda-South-Port-Uniting-Church-Morning-Service.jpg
END:VEVENT
BEGIN:VEVENT
DTSTART;TZID=Australia/Melbourne:20250810T100000
DTEND;TZID=Australia/Melbourne:20250810T110000
DTSTAMP:20260424T234312
CREATED:20250725T073136Z
LAST-MODIFIED:20250725T073136Z
UID:5207-1754820000-1754823600@stkildasouthportunitingchurch.org.au
SUMMARY:Sunday Service
DESCRIPTION:Our weekly worship held at our church in South Melbourne.  Worship to nourish your soul and engage your senses. \nHoly Communion on the 1st Sunday of the month. \nWe are looking forward to seeing you\, all are welcome!
URL:https://stkildasouthportunitingchurch.org.au/event/sunday-service-2025-08-10/
LOCATION:South Melbourne\, 325 Dorcas St\, South Melbourne\, VIC\, 3205\, Australia
CATEGORIES:Church Service
ATTACH;FMTTYPE=image/jpeg:https://stkildasouthportunitingchurch.org.au/wp-content/uploads/2023/02/St-Kilda-South-Port-Uniting-Church-Morning-Service.jpg
END:VEVENT
BEGIN:VEVENT
DTSTART;TZID=Australia/Melbourne:20250803T100000
DTEND;TZID=Australia/Melbourne:20250803T110000
DTSTAMP:20260424T234312
CREATED:20250625T003109Z
LAST-MODIFIED:20250625T003109Z
UID:5172-1754215200-1754218800@stkildasouthportunitingchurch.org.au
SUMMARY:Sunday Service
DESCRIPTION:Our weekly worship held at our church in South Melbourne.  Worship to nourish your soul and engage your senses. \nHoly Communion on the 1st Sunday of the month. \nWe are looking forward to seeing you\, all are welcome!
URL:https://stkildasouthportunitingchurch.org.au/event/sunday-service-2025-08-03/
LOCATION:South Melbourne\, 325 Dorcas St\, South Melbourne\, VIC\, 3205\, Australia
CATEGORIES:Church Service
ATTACH;FMTTYPE=image/jpeg:https://stkildasouthportunitingchurch.org.au/wp-content/uploads/2023/02/St-Kilda-South-Port-Uniting-Church-Morning-Service.jpg
END:VEVENT
BEGIN:VEVENT
DTSTART;TZID=Australia/Melbourne:20250727T100000
DTEND;TZID=Australia/Melbourne:20250727T110000
DTSTAMP:20260424T234312
CREATED:20250625T003020Z
LAST-MODIFIED:20250625T003020Z
UID:5170-1753610400-1753614000@stkildasouthportunitingchurch.org.au
SUMMARY:Sunday Service
DESCRIPTION:Our weekly worship held at our church in South Melbourne.  Worship to nourish your soul and engage your senses. \nHoly Communion on the 1st Sunday of the month. \nWe are looking forward to seeing you\, all are welcome!
URL:https://stkildasouthportunitingchurch.org.au/event/sunday-service-2025-07-27/
LOCATION:South Melbourne\, 325 Dorcas St\, South Melbourne\, VIC\, 3205\, Australia
CATEGORIES:Church Service
ATTACH;FMTTYPE=image/jpeg:https://stkildasouthportunitingchurch.org.au/wp-content/uploads/2023/02/St-Kilda-South-Port-Uniting-Church-Morning-Service.jpg
END:VEVENT
BEGIN:VEVENT
DTSTART;TZID=Australia/Melbourne:20250720T100000
DTEND;TZID=Australia/Melbourne:20250720T110000
DTSTAMP:20260424T234312
CREATED:20250625T002925Z
LAST-MODIFIED:20250625T002925Z
UID:5168-1753005600-1753009200@stkildasouthportunitingchurch.org.au
SUMMARY:Sunday Service
DESCRIPTION:Our weekly worship held at our church in South Melbourne.  Worship to nourish your soul and engage your senses. \nHoly Communion on the 1st Sunday of the month. \nWe are looking forward to seeing you\, all are welcome!
URL:https://stkildasouthportunitingchurch.org.au/event/sunday-service-2025-07-20/
LOCATION:South Melbourne\, 325 Dorcas St\, South Melbourne\, VIC\, 3205\, Australia
CATEGORIES:Church Service
ATTACH;FMTTYPE=image/jpeg:https://stkildasouthportunitingchurch.org.au/wp-content/uploads/2023/02/St-Kilda-South-Port-Uniting-Church-Morning-Service.jpg
END:VEVENT
BEGIN:VEVENT
DTSTART;TZID=Australia/Melbourne:20250713T100000
DTEND;TZID=Australia/Melbourne:20250713T110000
DTSTAMP:20260424T234312
CREATED:20250625T002838Z
LAST-MODIFIED:20250625T002838Z
UID:5166-1752400800-1752404400@stkildasouthportunitingchurch.org.au
SUMMARY:Sunday Service
DESCRIPTION:Our weekly worship held at our church in South Melbourne.  Worship to nourish your soul and engage your senses. \nHoly Communion on the 1st Sunday of the month. \nWe are looking forward to seeing you\, all are welcome!
URL:https://stkildasouthportunitingchurch.org.au/event/sunday-service-2025-07-13/
LOCATION:South Melbourne\, 325 Dorcas St\, South Melbourne\, VIC\, 3205\, Australia
CATEGORIES:Church Service
ATTACH;FMTTYPE=image/jpeg:https://stkildasouthportunitingchurch.org.au/wp-content/uploads/2023/02/St-Kilda-South-Port-Uniting-Church-Morning-Service.jpg
END:VEVENT
BEGIN:VEVENT
DTSTART;TZID=Australia/Melbourne:20250706T100000
DTEND;TZID=Australia/Melbourne:20250706T110000
DTSTAMP:20260424T234312
CREATED:20250528T072604Z
LAST-MODIFIED:20250528T072604Z
UID:5153-1751796000-1751799600@stkildasouthportunitingchurch.org.au
SUMMARY:Sunday Service
DESCRIPTION:Our weekly worship held at our church in South Melbourne.  Worship to nourish your soul and engage your senses. \nHoly Communion on the 1st Sunday of the month. \nWe are looking forward to seeing you\, all are welcome!
URL:https://stkildasouthportunitingchurch.org.au/event/sunday-service-2025-07-06/
LOCATION:South Melbourne\, 325 Dorcas St\, South Melbourne\, VIC\, 3205\, Australia
CATEGORIES:Church Service
ATTACH;FMTTYPE=image/jpeg:https://stkildasouthportunitingchurch.org.au/wp-content/uploads/2023/02/St-Kilda-South-Port-Uniting-Church-Morning-Service.jpg
END:VEVENT
BEGIN:VEVENT
DTSTART;TZID=Australia/Melbourne:20250629T100000
DTEND;TZID=Australia/Melbourne:20250629T110000
DTSTAMP:20260424T234312
CREATED:20250528T072506Z
LAST-MODIFIED:20250528T072506Z
UID:5151-1751191200-1751194800@stkildasouthportunitingchurch.org.au
SUMMARY:Sunday Service
DESCRIPTION:Our weekly worship held at our church in South Melbourne.  Worship to nourish your soul and engage your senses. \nHoly Communion on the 1st Sunday of the month. \nWe are looking forward to seeing you\, all are welcome!
URL:https://stkildasouthportunitingchurch.org.au/event/sunday-service-2025-06-29/
LOCATION:South Melbourne\, 325 Dorcas St\, South Melbourne\, VIC\, 3205\, Australia
CATEGORIES:Church Service
ATTACH;FMTTYPE=image/jpeg:https://stkildasouthportunitingchurch.org.au/wp-content/uploads/2023/02/St-Kilda-South-Port-Uniting-Church-Morning-Service.jpg
END:VEVENT
BEGIN:VEVENT
DTSTART;TZID=Australia/Melbourne:20250622T100000
DTEND;TZID=Australia/Melbourne:20250622T110000
DTSTAMP:20260424T234312
CREATED:20250528T072350Z
LAST-MODIFIED:20250528T072350Z
UID:5148-1750586400-1750590000@stkildasouthportunitingchurch.org.au
SUMMARY:Sunday Service
DESCRIPTION:Our weekly worship held at our church in South Melbourne.  Worship to nourish your soul and engage your senses. \nHoly Communion on the 1st Sunday of the month. \nWe are looking forward to seeing you\, all are welcome!
URL:https://stkildasouthportunitingchurch.org.au/event/sunday-service-2025-06-22/
LOCATION:South Melbourne\, 325 Dorcas St\, South Melbourne\, VIC\, 3205\, Australia
CATEGORIES:Church Service
ATTACH;FMTTYPE=image/jpeg:https://stkildasouthportunitingchurch.org.au/wp-content/uploads/2023/02/St-Kilda-South-Port-Uniting-Church-Morning-Service.jpg
END:VEVENT
BEGIN:VEVENT
DTSTART;TZID=Australia/Melbourne:20250615T100000
DTEND;TZID=Australia/Melbourne:20250615T110000
DTSTAMP:20260424T234312
CREATED:20250528T072302Z
LAST-MODIFIED:20250528T072302Z
UID:5145-1749981600-1749985200@stkildasouthportunitingchurch.org.au
SUMMARY:Sunday Service
DESCRIPTION:Our weekly worship held at our church in South Melbourne.  Worship to nourish your soul and engage your senses. \nHoly Communion on the 1st Sunday of the month. \nWe are looking forward to seeing you\, all are welcome! \nThis week\, join us after the service to plant more indigenous plants in our pollinator garden.
URL:https://stkildasouthportunitingchurch.org.au/event/sunday-service-2025-06-15/
LOCATION:South Melbourne\, 325 Dorcas St\, South Melbourne\, VIC\, 3205\, Australia
CATEGORIES:Church Service
ATTACH;FMTTYPE=image/jpeg:https://stkildasouthportunitingchurch.org.au/wp-content/uploads/2023/02/St-Kilda-South-Port-Uniting-Church-Morning-Service.jpg
END:VEVENT
BEGIN:VEVENT
DTSTART;TZID=Australia/Melbourne:20250608T100000
DTEND;TZID=Australia/Melbourne:20250608T110000
DTSTAMP:20260424T234312
CREATED:20250528T072048Z
LAST-MODIFIED:20250528T072048Z
UID:5143-1749376800-1749380400@stkildasouthportunitingchurch.org.au
SUMMARY:Sunday Service
DESCRIPTION:Our weekly worship held at our church in South Melbourne.  Worship to nourish your soul and engage your senses. \nHoly Communion on the 1st Sunday of the month. \nWe are looking forward to seeing you\, all are welcome!
URL:https://stkildasouthportunitingchurch.org.au/event/sunday-service-2025-06-08/
LOCATION:South Melbourne\, 325 Dorcas St\, South Melbourne\, VIC\, 3205\, Australia
CATEGORIES:Church Service
ATTACH;FMTTYPE=image/jpeg:https://stkildasouthportunitingchurch.org.au/wp-content/uploads/2023/02/St-Kilda-South-Port-Uniting-Church-Morning-Service.jpg
END:VEVENT
BEGIN:VEVENT
DTSTART;TZID=Australia/Melbourne:20250601T100000
DTEND;TZID=Australia/Melbourne:20250601T110000
DTSTAMP:20260424T234312
CREATED:20250502T061304Z
LAST-MODIFIED:20250502T061304Z
UID:5065-1748772000-1748775600@stkildasouthportunitingchurch.org.au
SUMMARY:Sunday Service
DESCRIPTION:Our weekly worship held at our church in South Melbourne.  Worship to nourish your soul and engage your senses. \nHoly Communion on the 1st Sunday of the month. \nWe are looking forward to seeing you\, all are welcome!
URL:https://stkildasouthportunitingchurch.org.au/event/sunday-service-2025-06-01/
LOCATION:South Melbourne\, 325 Dorcas St\, South Melbourne\, VIC\, 3205\, Australia
CATEGORIES:Church Service
ATTACH;FMTTYPE=image/jpeg:https://stkildasouthportunitingchurch.org.au/wp-content/uploads/2023/02/St-Kilda-South-Port-Uniting-Church-Morning-Service.jpg
END:VEVENT
BEGIN:VEVENT
DTSTART;TZID=Australia/Melbourne:20250525T100000
DTEND;TZID=Australia/Melbourne:20250525T110000
DTSTAMP:20260424T234312
CREATED:20250502T061203Z
LAST-MODIFIED:20250502T061203Z
UID:5063-1748167200-1748170800@stkildasouthportunitingchurch.org.au
SUMMARY:Sunday Service
DESCRIPTION:Our weekly worship held at our church in South Melbourne.  Worship to nourish your soul and engage your senses. \nHoly Communion on the 1st Sunday of the month. \nWe are looking forward to seeing you\, all are welcome!
URL:https://stkildasouthportunitingchurch.org.au/event/sunday-service-2025-05-25/
LOCATION:South Melbourne\, 325 Dorcas St\, South Melbourne\, VIC\, 3205\, Australia
CATEGORIES:Church Service
ATTACH;FMTTYPE=image/jpeg:https://stkildasouthportunitingchurch.org.au/wp-content/uploads/2023/02/St-Kilda-South-Port-Uniting-Church-Morning-Service.jpg
END:VEVENT
BEGIN:VEVENT
DTSTART;TZID=Australia/Melbourne:20250518T100000
DTEND;TZID=Australia/Melbourne:20250518T110000
DTSTAMP:20260424T234312
CREATED:20250502T061111Z
LAST-MODIFIED:20250502T061111Z
UID:5061-1747562400-1747566000@stkildasouthportunitingchurch.org.au
SUMMARY:Sunday Service
DESCRIPTION:Our weekly worship held at our church in South Melbourne.  Worship to nourish your soul and engage your senses. \nHoly Communion on the 1st Sunday of the month. \nWe are looking forward to seeing you\, all are welcome!
URL:https://stkildasouthportunitingchurch.org.au/event/sunday-service-2025-05-18/
LOCATION:South Melbourne\, 325 Dorcas St\, South Melbourne\, VIC\, 3205\, Australia
CATEGORIES:Church Service
ATTACH;FMTTYPE=image/jpeg:https://stkildasouthportunitingchurch.org.au/wp-content/uploads/2023/02/St-Kilda-South-Port-Uniting-Church-Morning-Service.jpg
END:VEVENT
BEGIN:VEVENT
DTSTART;TZID=Australia/Melbourne:20250511T100000
DTEND;TZID=Australia/Melbourne:20250511T110000
DTSTAMP:20260424T234312
CREATED:20250502T061025Z
LAST-MODIFIED:20250502T061025Z
UID:5059-1746957600-1746961200@stkildasouthportunitingchurch.org.au
SUMMARY:Sunday Service
DESCRIPTION:Our weekly worship held at our church in South Melbourne.  Worship to nourish your soul and engage your senses. \nHoly Communion on the 1st Sunday of the month. \nWe are looking forward to seeing you\, all are welcome!
URL:https://stkildasouthportunitingchurch.org.au/event/sunday-service-2025-05-11/
LOCATION:South Melbourne\, 325 Dorcas St\, South Melbourne\, VIC\, 3205\, Australia
CATEGORIES:Church Service
ATTACH;FMTTYPE=image/jpeg:https://stkildasouthportunitingchurch.org.au/wp-content/uploads/2023/02/St-Kilda-South-Port-Uniting-Church-Morning-Service.jpg
END:VEVENT
END:VCALENDAR