BEGIN:VCALENDAR
VERSION:2.0
PRODID:-//St Kilda Uniting Church - ECPv6.15.16//NONSGML v1.0//EN
CALSCALE:GREGORIAN
METHOD:PUBLISH
X-ORIGINAL-URL:https://stkildasouthportunitingchurch.org.au
X-WR-CALDESC:Events for St Kilda Uniting Church
REFRESH-INTERVAL;VALUE=DURATION:PT1H
X-Robots-Tag:noindex
X-PUBLISHED-TTL:PT1H
BEGIN:VTIMEZONE
TZID:Australia/Melbourne
BEGIN:STANDARD
TZOFFSETFROM:+1100
TZOFFSETTO:+1000
TZNAME:AEST
DTSTART:20230401T160000
END:STANDARD
BEGIN:DAYLIGHT
TZOFFSETFROM:+1000
TZOFFSETTO:+1100
TZNAME:AEDT
DTSTART:20230930T160000
END:DAYLIGHT
BEGIN:STANDARD
TZOFFSETFROM:+1100
TZOFFSETTO:+1000
TZNAME:AEST
DTSTART:20240406T160000
END:STANDARD
BEGIN:DAYLIGHT
TZOFFSETFROM:+1000
TZOFFSETTO:+1100
TZNAME:AEDT
DTSTART:20241005T160000
END:DAYLIGHT
BEGIN:STANDARD
TZOFFSETFROM:+1100
TZOFFSETTO:+1000
TZNAME:AEST
DTSTART:20250405T160000
END:STANDARD
BEGIN:DAYLIGHT
TZOFFSETFROM:+1000
TZOFFSETTO:+1100
TZNAME:AEDT
DTSTART:20251004T160000
END:DAYLIGHT
BEGIN:STANDARD
TZOFFSETFROM:+1100
TZOFFSETTO:+1000
TZNAME:AEST
DTSTART:20260404T160000
END:STANDARD
BEGIN:DAYLIGHT
TZOFFSETFROM:+1000
TZOFFSETTO:+1100
TZNAME:AEDT
DTSTART:20261003T160000
END:DAYLIGHT
END:VTIMEZONE
BEGIN:VEVENT
DTSTART;TZID=Australia/Melbourne:20250713T100000
DTEND;TZID=Australia/Melbourne:20250713T110000
DTSTAMP:20260425T030017
CREATED:20250625T002838Z
LAST-MODIFIED:20250625T002838Z
UID:5166-1752400800-1752404400@stkildasouthportunitingchurch.org.au
SUMMARY:Sunday Service
DESCRIPTION:Our weekly worship held at our church in South Melbourne.  Worship to nourish your soul and engage your senses. \nHoly Communion on the 1st Sunday of the month. \nWe are looking forward to seeing you\, all are welcome!
URL:https://stkildasouthportunitingchurch.org.au/event/sunday-service-2025-07-13/
LOCATION:South Melbourne\, 325 Dorcas St\, South Melbourne\, VIC\, 3205\, Australia
CATEGORIES:Church Service
ATTACH;FMTTYPE=image/jpeg:https://stkildasouthportunitingchurch.org.au/wp-content/uploads/2023/02/St-Kilda-South-Port-Uniting-Church-Morning-Service.jpg
END:VEVENT
BEGIN:VEVENT
DTSTART;TZID=Australia/Melbourne:20250706T100000
DTEND;TZID=Australia/Melbourne:20250706T110000
DTSTAMP:20260425T030017
CREATED:20250528T072604Z
LAST-MODIFIED:20250528T072604Z
UID:5153-1751796000-1751799600@stkildasouthportunitingchurch.org.au
SUMMARY:Sunday Service
DESCRIPTION:Our weekly worship held at our church in South Melbourne.  Worship to nourish your soul and engage your senses. \nHoly Communion on the 1st Sunday of the month. \nWe are looking forward to seeing you\, all are welcome!
URL:https://stkildasouthportunitingchurch.org.au/event/sunday-service-2025-07-06/
LOCATION:South Melbourne\, 325 Dorcas St\, South Melbourne\, VIC\, 3205\, Australia
CATEGORIES:Church Service
ATTACH;FMTTYPE=image/jpeg:https://stkildasouthportunitingchurch.org.au/wp-content/uploads/2023/02/St-Kilda-South-Port-Uniting-Church-Morning-Service.jpg
END:VEVENT
BEGIN:VEVENT
DTSTART;TZID=Australia/Melbourne:20250629T100000
DTEND;TZID=Australia/Melbourne:20250629T110000
DTSTAMP:20260425T030017
CREATED:20250528T072506Z
LAST-MODIFIED:20250528T072506Z
UID:5151-1751191200-1751194800@stkildasouthportunitingchurch.org.au
SUMMARY:Sunday Service
DESCRIPTION:Our weekly worship held at our church in South Melbourne.  Worship to nourish your soul and engage your senses. \nHoly Communion on the 1st Sunday of the month. \nWe are looking forward to seeing you\, all are welcome!
URL:https://stkildasouthportunitingchurch.org.au/event/sunday-service-2025-06-29/
LOCATION:South Melbourne\, 325 Dorcas St\, South Melbourne\, VIC\, 3205\, Australia
CATEGORIES:Church Service
ATTACH;FMTTYPE=image/jpeg:https://stkildasouthportunitingchurch.org.au/wp-content/uploads/2023/02/St-Kilda-South-Port-Uniting-Church-Morning-Service.jpg
END:VEVENT
BEGIN:VEVENT
DTSTART;TZID=Australia/Melbourne:20250622T100000
DTEND;TZID=Australia/Melbourne:20250622T110000
DTSTAMP:20260425T030017
CREATED:20250528T072350Z
LAST-MODIFIED:20250528T072350Z
UID:5148-1750586400-1750590000@stkildasouthportunitingchurch.org.au
SUMMARY:Sunday Service
DESCRIPTION:Our weekly worship held at our church in South Melbourne.  Worship to nourish your soul and engage your senses. \nHoly Communion on the 1st Sunday of the month. \nWe are looking forward to seeing you\, all are welcome!
URL:https://stkildasouthportunitingchurch.org.au/event/sunday-service-2025-06-22/
LOCATION:South Melbourne\, 325 Dorcas St\, South Melbourne\, VIC\, 3205\, Australia
CATEGORIES:Church Service
ATTACH;FMTTYPE=image/jpeg:https://stkildasouthportunitingchurch.org.au/wp-content/uploads/2023/02/St-Kilda-South-Port-Uniting-Church-Morning-Service.jpg
END:VEVENT
BEGIN:VEVENT
DTSTART;TZID=Australia/Melbourne:20250615T100000
DTEND;TZID=Australia/Melbourne:20250615T110000
DTSTAMP:20260425T030017
CREATED:20250528T072302Z
LAST-MODIFIED:20250528T072302Z
UID:5145-1749981600-1749985200@stkildasouthportunitingchurch.org.au
SUMMARY:Sunday Service
DESCRIPTION:Our weekly worship held at our church in South Melbourne.  Worship to nourish your soul and engage your senses. \nHoly Communion on the 1st Sunday of the month. \nWe are looking forward to seeing you\, all are welcome! \nThis week\, join us after the service to plant more indigenous plants in our pollinator garden.
URL:https://stkildasouthportunitingchurch.org.au/event/sunday-service-2025-06-15/
LOCATION:South Melbourne\, 325 Dorcas St\, South Melbourne\, VIC\, 3205\, Australia
CATEGORIES:Church Service
ATTACH;FMTTYPE=image/jpeg:https://stkildasouthportunitingchurch.org.au/wp-content/uploads/2023/02/St-Kilda-South-Port-Uniting-Church-Morning-Service.jpg
END:VEVENT
BEGIN:VEVENT
DTSTART;TZID=Australia/Melbourne:20250608T100000
DTEND;TZID=Australia/Melbourne:20250608T110000
DTSTAMP:20260425T030017
CREATED:20250528T072048Z
LAST-MODIFIED:20250528T072048Z
UID:5143-1749376800-1749380400@stkildasouthportunitingchurch.org.au
SUMMARY:Sunday Service
DESCRIPTION:Our weekly worship held at our church in South Melbourne.  Worship to nourish your soul and engage your senses. \nHoly Communion on the 1st Sunday of the month. \nWe are looking forward to seeing you\, all are welcome!
URL:https://stkildasouthportunitingchurch.org.au/event/sunday-service-2025-06-08/
LOCATION:South Melbourne\, 325 Dorcas St\, South Melbourne\, VIC\, 3205\, Australia
CATEGORIES:Church Service
ATTACH;FMTTYPE=image/jpeg:https://stkildasouthportunitingchurch.org.au/wp-content/uploads/2023/02/St-Kilda-South-Port-Uniting-Church-Morning-Service.jpg
END:VEVENT
BEGIN:VEVENT
DTSTART;TZID=Australia/Melbourne:20250601T100000
DTEND;TZID=Australia/Melbourne:20250601T110000
DTSTAMP:20260425T030017
CREATED:20250502T061304Z
LAST-MODIFIED:20250502T061304Z
UID:5065-1748772000-1748775600@stkildasouthportunitingchurch.org.au
SUMMARY:Sunday Service
DESCRIPTION:Our weekly worship held at our church in South Melbourne.  Worship to nourish your soul and engage your senses. \nHoly Communion on the 1st Sunday of the month. \nWe are looking forward to seeing you\, all are welcome!
URL:https://stkildasouthportunitingchurch.org.au/event/sunday-service-2025-06-01/
LOCATION:South Melbourne\, 325 Dorcas St\, South Melbourne\, VIC\, 3205\, Australia
CATEGORIES:Church Service
ATTACH;FMTTYPE=image/jpeg:https://stkildasouthportunitingchurch.org.au/wp-content/uploads/2023/02/St-Kilda-South-Port-Uniting-Church-Morning-Service.jpg
END:VEVENT
BEGIN:VEVENT
DTSTART;TZID=Australia/Melbourne:20250525T100000
DTEND;TZID=Australia/Melbourne:20250525T110000
DTSTAMP:20260425T030017
CREATED:20250502T061203Z
LAST-MODIFIED:20250502T061203Z
UID:5063-1748167200-1748170800@stkildasouthportunitingchurch.org.au
SUMMARY:Sunday Service
DESCRIPTION:Our weekly worship held at our church in South Melbourne.  Worship to nourish your soul and engage your senses. \nHoly Communion on the 1st Sunday of the month. \nWe are looking forward to seeing you\, all are welcome!
URL:https://stkildasouthportunitingchurch.org.au/event/sunday-service-2025-05-25/
LOCATION:South Melbourne\, 325 Dorcas St\, South Melbourne\, VIC\, 3205\, Australia
CATEGORIES:Church Service
ATTACH;FMTTYPE=image/jpeg:https://stkildasouthportunitingchurch.org.au/wp-content/uploads/2023/02/St-Kilda-South-Port-Uniting-Church-Morning-Service.jpg
END:VEVENT
BEGIN:VEVENT
DTSTART;TZID=Australia/Melbourne:20250518T100000
DTEND;TZID=Australia/Melbourne:20250518T110000
DTSTAMP:20260425T030017
CREATED:20250502T061111Z
LAST-MODIFIED:20250502T061111Z
UID:5061-1747562400-1747566000@stkildasouthportunitingchurch.org.au
SUMMARY:Sunday Service
DESCRIPTION:Our weekly worship held at our church in South Melbourne.  Worship to nourish your soul and engage your senses. \nHoly Communion on the 1st Sunday of the month. \nWe are looking forward to seeing you\, all are welcome!
URL:https://stkildasouthportunitingchurch.org.au/event/sunday-service-2025-05-18/
LOCATION:South Melbourne\, 325 Dorcas St\, South Melbourne\, VIC\, 3205\, Australia
CATEGORIES:Church Service
ATTACH;FMTTYPE=image/jpeg:https://stkildasouthportunitingchurch.org.au/wp-content/uploads/2023/02/St-Kilda-South-Port-Uniting-Church-Morning-Service.jpg
END:VEVENT
BEGIN:VEVENT
DTSTART;TZID=Australia/Melbourne:20250511T100000
DTEND;TZID=Australia/Melbourne:20250511T110000
DTSTAMP:20260425T030017
CREATED:20250502T061025Z
LAST-MODIFIED:20250502T061025Z
UID:5059-1746957600-1746961200@stkildasouthportunitingchurch.org.au
SUMMARY:Sunday Service
DESCRIPTION:Our weekly worship held at our church in South Melbourne.  Worship to nourish your soul and engage your senses. \nHoly Communion on the 1st Sunday of the month. \nWe are looking forward to seeing you\, all are welcome!
URL:https://stkildasouthportunitingchurch.org.au/event/sunday-service-2025-05-11/
LOCATION:South Melbourne\, 325 Dorcas St\, South Melbourne\, VIC\, 3205\, Australia
CATEGORIES:Church Service
ATTACH;FMTTYPE=image/jpeg:https://stkildasouthportunitingchurch.org.au/wp-content/uploads/2023/02/St-Kilda-South-Port-Uniting-Church-Morning-Service.jpg
END:VEVENT
BEGIN:VEVENT
DTSTART;TZID=Australia/Melbourne:20250504T100000
DTEND;TZID=Australia/Melbourne:20250504T110000
DTSTAMP:20260425T030017
CREATED:20250328T014702Z
LAST-MODIFIED:20250328T014702Z
UID:5019-1746352800-1746356400@stkildasouthportunitingchurch.org.au
SUMMARY:Sunday Service
DESCRIPTION:Our weekly worship held at our church in South Melbourne.  Worship to nourish your soul and engage your senses. \nHoly Communion on the 1st Sunday of the month. \nWe are looking forward to seeing you\, all are welcome!
URL:https://stkildasouthportunitingchurch.org.au/event/sunday-service-2025-05-04/
LOCATION:South Melbourne\, 325 Dorcas St\, South Melbourne\, VIC\, 3205\, Australia
CATEGORIES:Church Service
ATTACH;FMTTYPE=image/jpeg:https://stkildasouthportunitingchurch.org.au/wp-content/uploads/2023/02/St-Kilda-South-Port-Uniting-Church-Morning-Service.jpg
END:VEVENT
BEGIN:VEVENT
DTSTART;TZID=Australia/Melbourne:20250427T100000
DTEND;TZID=Australia/Melbourne:20250427T110000
DTSTAMP:20260425T030017
CREATED:20250328T014608Z
LAST-MODIFIED:20250328T014608Z
UID:5016-1745748000-1745751600@stkildasouthportunitingchurch.org.au
SUMMARY:Sunday Service
DESCRIPTION:Our weekly worship held at our church in South Melbourne.  Worship to nourish your soul and engage your senses. \nHoly Communion on the 1st Sunday of the month. \nWe are looking forward to seeing you\, all are welcome!
URL:https://stkildasouthportunitingchurch.org.au/event/sunday-service-2025-04-27/
LOCATION:South Melbourne\, 325 Dorcas St\, South Melbourne\, VIC\, 3205\, Australia
CATEGORIES:Church Service
ATTACH;FMTTYPE=image/jpeg:https://stkildasouthportunitingchurch.org.au/wp-content/uploads/2023/02/St-Kilda-South-Port-Uniting-Church-Morning-Service.jpg
END:VEVENT
BEGIN:VEVENT
DTSTART;TZID=Australia/Melbourne:20250420T100000
DTEND;TZID=Australia/Melbourne:20250420T110000
DTSTAMP:20260425T030017
CREATED:20250328T015606Z
LAST-MODIFIED:20250328T015606Z
UID:5021-1745143200-1745146800@stkildasouthportunitingchurch.org.au
SUMMARY:Easter Sunday
DESCRIPTION:  \nSunday 20th April\, 10 am\n \nWorship to nourish your soul and engage your senses. \nWe are looking forward to seeing you\, all are welcome!
URL:https://stkildasouthportunitingchurch.org.au/event/sunday-service-2025-04-20/
LOCATION:South Melbourne\, 325 Dorcas St\, South Melbourne\, VIC\, 3205\, Australia
CATEGORIES:Church Service
ATTACH;FMTTYPE=image/jpeg:https://stkildasouthportunitingchurch.org.au/wp-content/uploads/2023/02/St-Kilda-South-Port-Uniting-Church-Morning-Service.jpg
END:VEVENT
BEGIN:VEVENT
DTSTART;TZID=Australia/Melbourne:20250418T093000
DTEND;TZID=Australia/Melbourne:20250418T103000
DTSTAMP:20260425T030017
CREATED:20250328T020243Z
LAST-MODIFIED:20250328T024545Z
UID:5024-1744968600-1744972200@stkildasouthportunitingchurch.org.au
SUMMARY:Good Friday
DESCRIPTION:Good Friday Ecumenical Service \nSong\, Story\, Lament and Love:\nWalking with Jesus towards the Cross \nApril 18th\, 9.30 am \nGather Round the Fire with Archdeacon Uncle Glen Loughrey\nBishops House (outdoors)\, 1 St Leonards Ave\, St Kilda \nRev Alexandra Sangster 0411 292 273 \n 
URL:https://stkildasouthportunitingchurch.org.au/event/good-friday-2025-04-18/
LOCATION:Bishops House\, 1 St Leonards Ave\, St Kilda\, Victoria\, 3182\, Australia
CATEGORIES:Church Service
ATTACH;FMTTYPE=image/png:https://stkildasouthportunitingchurch.org.au/wp-content/uploads/2025/03/Good-Friday-fire.png
ORGANIZER;CN="Rev Alex Sangster":MAILTO:alisangster@gmail.com
END:VEVENT
BEGIN:VEVENT
DTSTART;TZID=Australia/Melbourne:20250413T100000
DTEND;TZID=Australia/Melbourne:20250413T110000
DTSTAMP:20260425T030017
CREATED:20250328T014502Z
LAST-MODIFIED:20250328T014502Z
UID:5013-1744538400-1744542000@stkildasouthportunitingchurch.org.au
SUMMARY:Sunday Service
DESCRIPTION:Our weekly worship held at our church in South Melbourne.  Worship to nourish your soul and engage your senses. \nHoly Communion on the 1st Sunday of the month. \nWe are looking forward to seeing you\, all are welcome! \nThis Sunday is Palm Sunday
URL:https://stkildasouthportunitingchurch.org.au/event/sunday-service-2025-04-13/
LOCATION:South Melbourne\, 325 Dorcas St\, South Melbourne\, VIC\, 3205\, Australia
CATEGORIES:Church Service
ATTACH;FMTTYPE=image/jpeg:https://stkildasouthportunitingchurch.org.au/wp-content/uploads/2023/02/St-Kilda-South-Port-Uniting-Church-Morning-Service.jpg
END:VEVENT
BEGIN:VEVENT
DTSTART;TZID=Australia/Melbourne:20250406T100000
DTEND;TZID=Australia/Melbourne:20250406T110000
DTSTAMP:20260425T030017
CREATED:20250211T060739Z
LAST-MODIFIED:20250211T060739Z
UID:4965-1743933600-1743937200@stkildasouthportunitingchurch.org.au
SUMMARY:Sunday Service
DESCRIPTION:Our weekly worship held at our church in South Melbourne.  Worship to nourish your soul and engage your senses. \nHoly Communion on the 1st Sunday of the month. \nWe are looking forward to seeing you\, all are welcome!
URL:https://stkildasouthportunitingchurch.org.au/event/sunday-service-2025-04-06/
LOCATION:South Melbourne\, 325 Dorcas St\, South Melbourne\, VIC\, 3205\, Australia
CATEGORIES:Church Service
ATTACH;FMTTYPE=image/jpeg:https://stkildasouthportunitingchurch.org.au/wp-content/uploads/2023/02/St-Kilda-South-Port-Uniting-Church-Morning-Service.jpg
END:VEVENT
BEGIN:VEVENT
DTSTART;TZID=Australia/Melbourne:20250330T100000
DTEND;TZID=Australia/Melbourne:20250330T110000
DTSTAMP:20260425T030017
CREATED:20250211T060624Z
LAST-MODIFIED:20250211T060624Z
UID:4963-1743328800-1743332400@stkildasouthportunitingchurch.org.au
SUMMARY:Sunday Service
DESCRIPTION:Our weekly worship held at our church in South Melbourne.  Worship to nourish your soul and engage your senses. \nHoly Communion on the 1st Sunday of the month. \nWe are looking forward to seeing you\, all are welcome!
URL:https://stkildasouthportunitingchurch.org.au/event/sunday-service-2025-03-30/
LOCATION:South Melbourne\, 325 Dorcas St\, South Melbourne\, VIC\, 3205\, Australia
CATEGORIES:Church Service
ATTACH;FMTTYPE=image/jpeg:https://stkildasouthportunitingchurch.org.au/wp-content/uploads/2023/02/St-Kilda-South-Port-Uniting-Church-Morning-Service.jpg
END:VEVENT
BEGIN:VEVENT
DTSTART;TZID=Australia/Melbourne:20250323T100000
DTEND;TZID=Australia/Melbourne:20250323T110000
DTSTAMP:20260425T030017
CREATED:20250211T044434Z
LAST-MODIFIED:20250211T044434Z
UID:4961-1742724000-1742727600@stkildasouthportunitingchurch.org.au
SUMMARY:Sunday Service
DESCRIPTION:Our weekly worship held at our church in South Melbourne.  Worship to nourish your soul and engage your senses. \nHoly Communion on the 1st Sunday of the month. \nWe are looking forward to seeing you\, all are welcome!
URL:https://stkildasouthportunitingchurch.org.au/event/sunday-service-2025-03-23/
LOCATION:South Melbourne\, 325 Dorcas St\, South Melbourne\, VIC\, 3205\, Australia
CATEGORIES:Church Service
ATTACH;FMTTYPE=image/jpeg:https://stkildasouthportunitingchurch.org.au/wp-content/uploads/2023/02/St-Kilda-South-Port-Uniting-Church-Morning-Service.jpg
END:VEVENT
BEGIN:VEVENT
DTSTART;TZID=Australia/Melbourne:20250316T100000
DTEND;TZID=Australia/Melbourne:20250316T110000
DTSTAMP:20260425T030017
CREATED:20250211T044316Z
LAST-MODIFIED:20250211T044316Z
UID:4959-1742119200-1742122800@stkildasouthportunitingchurch.org.au
SUMMARY:Sunday Service
DESCRIPTION:Our weekly worship held at our church in South Melbourne.  Worship to nourish your soul and engage your senses. \nHoly Communion on the 1st Sunday of the month. \nWe are looking forward to seeing you\, all are welcome!
URL:https://stkildasouthportunitingchurch.org.au/event/sunday-service-2025-03-16/
LOCATION:South Melbourne\, 325 Dorcas St\, South Melbourne\, VIC\, 3205\, Australia
CATEGORIES:Church Service
ATTACH;FMTTYPE=image/jpeg:https://stkildasouthportunitingchurch.org.au/wp-content/uploads/2023/02/St-Kilda-South-Port-Uniting-Church-Morning-Service.jpg
END:VEVENT
BEGIN:VEVENT
DTSTART;TZID=Australia/Melbourne:20250309T100000
DTEND;TZID=Australia/Melbourne:20250309T110000
DTSTAMP:20260425T030017
CREATED:20250211T044202Z
LAST-MODIFIED:20250211T044202Z
UID:4957-1741514400-1741518000@stkildasouthportunitingchurch.org.au
SUMMARY:Sunday Service
DESCRIPTION:Our weekly worship held at our church in South Melbourne.  Worship to nourish your soul and engage your senses. \nHoly Communion on the 1st Sunday of the month. \nWe are looking forward to seeing you\, all are welcome!
URL:https://stkildasouthportunitingchurch.org.au/event/sunday-service-2025-03-09/
LOCATION:South Melbourne\, 325 Dorcas St\, South Melbourne\, VIC\, 3205\, Australia
CATEGORIES:Church Service
ATTACH;FMTTYPE=image/jpeg:https://stkildasouthportunitingchurch.org.au/wp-content/uploads/2023/02/St-Kilda-South-Port-Uniting-Church-Morning-Service.jpg
END:VEVENT
BEGIN:VEVENT
DTSTART;TZID=Australia/Melbourne:20250305T173000
DTEND;TZID=Australia/Melbourne:20250305T183000
DTSTAMP:20260425T030017
CREATED:20250211T061332Z
LAST-MODIFIED:20250312T064513Z
UID:4969-1741195800-1741199400@stkildasouthportunitingchurch.org.au
SUMMARY:Ash Wednesday
DESCRIPTION:Begin the journey through Lent to Easter. \nAsh Wednesday \n5th March\, 5.30 pm
URL:https://stkildasouthportunitingchurch.org.au/event/ash-wednesday-2025-03-05/
LOCATION:South Melbourne\, 325 Dorcas St\, South Melbourne\, VIC\, 3205\, Australia
CATEGORIES:Church Service
ATTACH;FMTTYPE=image/jpeg:https://stkildasouthportunitingchurch.org.au/wp-content/uploads/2023/02/St-Kilda-South-Port-Uniting-Church-Morning-Service.jpg
END:VEVENT
BEGIN:VEVENT
DTSTART;TZID=Australia/Melbourne:20250302T100000
DTEND;TZID=Australia/Melbourne:20250302T110000
DTSTAMP:20260425T030017
CREATED:20250131T061453Z
LAST-MODIFIED:20250131T061453Z
UID:4896-1740909600-1740913200@stkildasouthportunitingchurch.org.au
SUMMARY:Sunday Service
DESCRIPTION:Our weekly worship held at our church in South Melbourne.  Worship to nourish your soul and engage your senses. \nHoly Communion on the 1st Sunday of the month. \nWe are looking forward to seeing you\, all are welcome!
URL:https://stkildasouthportunitingchurch.org.au/event/sunday-service-2025-03-02/
LOCATION:South Melbourne\, 325 Dorcas St\, South Melbourne\, VIC\, 3205\, Australia
CATEGORIES:Church Service
ATTACH;FMTTYPE=image/jpeg:https://stkildasouthportunitingchurch.org.au/wp-content/uploads/2023/02/St-Kilda-South-Port-Uniting-Church-Morning-Service.jpg
END:VEVENT
BEGIN:VEVENT
DTSTART;TZID=Australia/Melbourne:20250223T100000
DTEND;TZID=Australia/Melbourne:20250223T110000
DTSTAMP:20260425T030017
CREATED:20250131T061312Z
LAST-MODIFIED:20250131T061312Z
UID:4894-1740304800-1740308400@stkildasouthportunitingchurch.org.au
SUMMARY:Sunday Service
DESCRIPTION:Our weekly worship held at our church in South Melbourne.  Worship to nourish your soul and engage your senses. \nHoly Communion on the 1st Sunday of the month. \nWe are looking forward to seeing you\, all are welcome!
URL:https://stkildasouthportunitingchurch.org.au/event/sunday-service-2025-02-23/
LOCATION:South Melbourne\, 325 Dorcas St\, South Melbourne\, VIC\, 3205\, Australia
CATEGORIES:Church Service
ATTACH;FMTTYPE=image/jpeg:https://stkildasouthportunitingchurch.org.au/wp-content/uploads/2023/02/St-Kilda-South-Port-Uniting-Church-Morning-Service.jpg
END:VEVENT
BEGIN:VEVENT
DTSTART;TZID=Australia/Melbourne:20250216T100000
DTEND;TZID=Australia/Melbourne:20250216T110000
DTSTAMP:20260425T030017
CREATED:20250131T061219Z
LAST-MODIFIED:20250131T061219Z
UID:4891-1739700000-1739703600@stkildasouthportunitingchurch.org.au
SUMMARY:Sunday Service
DESCRIPTION:Our weekly worship held at our church in South Melbourne.  Worship to nourish your soul and engage your senses. \nHoly Communion on the 1st Sunday of the month. \nWe are looking forward to seeing you\, all are welcome!
URL:https://stkildasouthportunitingchurch.org.au/event/sunday-service-2025-02-16/
LOCATION:South Melbourne\, 325 Dorcas St\, South Melbourne\, VIC\, 3205\, Australia
CATEGORIES:Church Service
ATTACH;FMTTYPE=image/jpeg:https://stkildasouthportunitingchurch.org.au/wp-content/uploads/2023/02/St-Kilda-South-Port-Uniting-Church-Morning-Service.jpg
END:VEVENT
BEGIN:VEVENT
DTSTART;TZID=Australia/Melbourne:20250209T100000
DTEND;TZID=Australia/Melbourne:20250209T110000
DTSTAMP:20260425T030017
CREATED:20250131T060912Z
LAST-MODIFIED:20250131T060912Z
UID:4889-1739095200-1739098800@stkildasouthportunitingchurch.org.au
SUMMARY:Sunday Service
DESCRIPTION:Our weekly worship held at our church in South Melbourne.  Worship to nourish your soul and engage your senses. \nHoly Communion on the 1st Sunday of the month. \nWe are looking forward to seeing you\, all are welcome!
URL:https://stkildasouthportunitingchurch.org.au/event/sunday-service-2025-02-09/
LOCATION:South Melbourne\, 325 Dorcas St\, South Melbourne\, VIC\, 3205\, Australia
CATEGORIES:Church Service
ATTACH;FMTTYPE=image/jpeg:https://stkildasouthportunitingchurch.org.au/wp-content/uploads/2023/02/St-Kilda-South-Port-Uniting-Church-Morning-Service.jpg
END:VEVENT
BEGIN:VEVENT
DTSTART;TZID=Australia/Melbourne:20250202T100000
DTEND;TZID=Australia/Melbourne:20250202T110000
DTSTAMP:20260425T030017
CREATED:20250131T060806Z
LAST-MODIFIED:20250131T060806Z
UID:4887-1738490400-1738494000@stkildasouthportunitingchurch.org.au
SUMMARY:Sunday Service
DESCRIPTION:Our weekly worship held at our church in South Melbourne.  Worship to nourish your soul and engage your senses. \nHoly Communion on the 1st Sunday of the month. \nWe are looking forward to seeing you\, all are welcome!
URL:https://stkildasouthportunitingchurch.org.au/event/sunday-service-2025-02-02/
LOCATION:South Melbourne\, 325 Dorcas St\, South Melbourne\, VIC\, 3205\, Australia
CATEGORIES:Church Service
ATTACH;FMTTYPE=image/jpeg:https://stkildasouthportunitingchurch.org.au/wp-content/uploads/2023/02/St-Kilda-South-Port-Uniting-Church-Morning-Service.jpg
END:VEVENT
BEGIN:VEVENT
DTSTART;TZID=Australia/Melbourne:20241229T100000
DTEND;TZID=Australia/Melbourne:20241229T110000
DTSTAMP:20260425T030017
CREATED:20241108T071716Z
LAST-MODIFIED:20241108T071716Z
UID:4822-1735466400-1735470000@stkildasouthportunitingchurch.org.au
SUMMARY:Sunday Service
DESCRIPTION:Our weekly worship held at our church in South Melbourne.  Worship to nourish your soul and engage your senses. \nHoly Communion on the 1st Sunday of the month. \nWe are looking forward to seeing you\, all are welcome!
URL:https://stkildasouthportunitingchurch.org.au/event/sunday-service-2024-12-29/
LOCATION:South Melbourne\, 325 Dorcas St\, South Melbourne\, VIC\, 3205\, Australia
CATEGORIES:Church Service
ATTACH;FMTTYPE=image/jpeg:https://stkildasouthportunitingchurch.org.au/wp-content/uploads/2023/02/St-Kilda-South-Port-Uniting-Church-Morning-Service.jpg
END:VEVENT
BEGIN:VEVENT
DTSTART;TZID=Australia/Melbourne:20241222T100000
DTEND;TZID=Australia/Melbourne:20241222T110000
DTSTAMP:20260425T030017
CREATED:20241108T071637Z
LAST-MODIFIED:20241108T071637Z
UID:4820-1734861600-1734865200@stkildasouthportunitingchurch.org.au
SUMMARY:Sunday Service
DESCRIPTION:Our weekly worship held at our church in South Melbourne.  Worship to nourish your soul and engage your senses. \nHoly Communion on the 1st Sunday of the month. \nWe are looking forward to seeing you\, all are welcome!
URL:https://stkildasouthportunitingchurch.org.au/event/sunday-service-2024-12-22/
LOCATION:South Melbourne\, 325 Dorcas St\, South Melbourne\, VIC\, 3205\, Australia
CATEGORIES:Church Service
ATTACH;FMTTYPE=image/jpeg:https://stkildasouthportunitingchurch.org.au/wp-content/uploads/2023/02/St-Kilda-South-Port-Uniting-Church-Morning-Service.jpg
END:VEVENT
BEGIN:VEVENT
DTSTART;TZID=Australia/Melbourne:20241215T100000
DTEND;TZID=Australia/Melbourne:20241215T110000
DTSTAMP:20260425T030017
CREATED:20241108T071338Z
LAST-MODIFIED:20241108T071414Z
UID:4816-1734256800-1734260400@stkildasouthportunitingchurch.org.au
SUMMARY:Sunday Service
DESCRIPTION:Our weekly worship held at our church in South Melbourne.  Worship to nourish your soul and engage your senses. \nHoly Communion on the 1st Sunday of the month. \nWe are looking forward to seeing you\, all are welcome!
URL:https://stkildasouthportunitingchurch.org.au/event/sunday-service-2024-12-15/
LOCATION:South Melbourne\, 325 Dorcas St\, South Melbourne\, VIC\, 3205\, Australia
CATEGORIES:Church Service
ATTACH;FMTTYPE=image/jpeg:https://stkildasouthportunitingchurch.org.au/wp-content/uploads/2023/02/St-Kilda-South-Port-Uniting-Church-Morning-Service.jpg
END:VEVENT
BEGIN:VEVENT
DTSTART;TZID=Australia/Melbourne:20241208T100000
DTEND;TZID=Australia/Melbourne:20241208T110000
DTSTAMP:20260425T030017
CREATED:20241108T071537Z
LAST-MODIFIED:20241108T071537Z
UID:4818-1733652000-1733655600@stkildasouthportunitingchurch.org.au
SUMMARY:Sunday Service
DESCRIPTION:Our weekly worship held at our church in South Melbourne.  Worship to nourish your soul and engage your senses. \nHoly Communion on the 1st Sunday of the month. \nWe are looking forward to seeing you\, all are welcome!
URL:https://stkildasouthportunitingchurch.org.au/event/sunday-service-2024-12-8/
LOCATION:South Melbourne\, 325 Dorcas St\, South Melbourne\, VIC\, 3205\, Australia
CATEGORIES:Church Service
ATTACH;FMTTYPE=image/jpeg:https://stkildasouthportunitingchurch.org.au/wp-content/uploads/2023/02/St-Kilda-South-Port-Uniting-Church-Morning-Service.jpg
END:VEVENT
END:VCALENDAR