BEGIN:VCALENDAR
VERSION:2.0
PRODID:-//St Kilda Uniting Church - ECPv6.15.16//NONSGML v1.0//EN
CALSCALE:GREGORIAN
METHOD:PUBLISH
X-WR-CALNAME:St Kilda Uniting Church
X-ORIGINAL-URL:https://stkildasouthportunitingchurch.org.au
X-WR-CALDESC:Events for St Kilda Uniting Church
REFRESH-INTERVAL;VALUE=DURATION:PT1H
X-Robots-Tag:noindex
X-PUBLISHED-TTL:PT1H
BEGIN:VTIMEZONE
TZID:Australia/Melbourne
BEGIN:STANDARD
TZOFFSETFROM:+1100
TZOFFSETTO:+1000
TZNAME:AEST
DTSTART:20230401T160000
END:STANDARD
BEGIN:DAYLIGHT
TZOFFSETFROM:+1000
TZOFFSETTO:+1100
TZNAME:AEDT
DTSTART:20230930T160000
END:DAYLIGHT
BEGIN:STANDARD
TZOFFSETFROM:+1100
TZOFFSETTO:+1000
TZNAME:AEST
DTSTART:20240406T160000
END:STANDARD
BEGIN:DAYLIGHT
TZOFFSETFROM:+1000
TZOFFSETTO:+1100
TZNAME:AEDT
DTSTART:20241005T160000
END:DAYLIGHT
BEGIN:STANDARD
TZOFFSETFROM:+1100
TZOFFSETTO:+1000
TZNAME:AEST
DTSTART:20250405T160000
END:STANDARD
BEGIN:DAYLIGHT
TZOFFSETFROM:+1000
TZOFFSETTO:+1100
TZNAME:AEDT
DTSTART:20251004T160000
END:DAYLIGHT
END:VTIMEZONE
BEGIN:VEVENT
DTSTART;TZID=Australia/Melbourne:20241201T100000
DTEND;TZID=Australia/Melbourne:20241201T110000
DTSTAMP:20260425T074130
CREATED:20241108T071247Z
LAST-MODIFIED:20241108T071247Z
UID:4814-1733047200-1733050800@stkildasouthportunitingchurch.org.au
SUMMARY:Sunday Service
DESCRIPTION:Our weekly worship held at our church in South Melbourne.  Worship to nourish your soul and engage your senses. \nHoly Communion on the 1st Sunday of the month. \nWe are looking forward to seeing you\, all are welcome!
URL:https://stkildasouthportunitingchurch.org.au/event/sunday-service-2024-12-1/
LOCATION:South Melbourne\, 325 Dorcas St\, South Melbourne\, VIC\, 3205\, Australia
CATEGORIES:Church Service
ATTACH;FMTTYPE=image/jpeg:https://stkildasouthportunitingchurch.org.au/wp-content/uploads/2023/02/St-Kilda-South-Port-Uniting-Church-Morning-Service.jpg
END:VEVENT
BEGIN:VEVENT
DTSTART;TZID=Australia/Melbourne:20241124T100000
DTEND;TZID=Australia/Melbourne:20241124T110000
DTSTAMP:20260425T074130
CREATED:20241108T071152Z
LAST-MODIFIED:20241108T071152Z
UID:4812-1732442400-1732446000@stkildasouthportunitingchurch.org.au
SUMMARY:Sunday Service
DESCRIPTION:Our weekly worship held at our church in South Melbourne.  Worship to nourish your soul and engage your senses. \nHoly Communion on the 1st Sunday of the month. \nWe are looking forward to seeing you\, all are welcome!
URL:https://stkildasouthportunitingchurch.org.au/event/sunday-service-2024-11-24/
LOCATION:South Melbourne\, 325 Dorcas St\, South Melbourne\, VIC\, 3205\, Australia
CATEGORIES:Church Service
ATTACH;FMTTYPE=image/jpeg:https://stkildasouthportunitingchurch.org.au/wp-content/uploads/2023/02/St-Kilda-South-Port-Uniting-Church-Morning-Service.jpg
END:VEVENT
BEGIN:VEVENT
DTSTART;TZID=Australia/Melbourne:20241117T100000
DTEND;TZID=Australia/Melbourne:20241117T110000
DTSTAMP:20260425T074130
CREATED:20241108T071103Z
LAST-MODIFIED:20241108T071103Z
UID:4810-1731837600-1731841200@stkildasouthportunitingchurch.org.au
SUMMARY:Sunday Service
DESCRIPTION:Our weekly worship held at our church in South Melbourne.  Worship to nourish your soul and engage your senses. \nHoly Communion on the 1st Sunday of the month. \nWe are looking forward to seeing you\, all are welcome!
URL:https://stkildasouthportunitingchurch.org.au/event/sunday-service-2024-11-17/
LOCATION:South Melbourne\, 325 Dorcas St\, South Melbourne\, VIC\, 3205\, Australia
CATEGORIES:Church Service
ATTACH;FMTTYPE=image/jpeg:https://stkildasouthportunitingchurch.org.au/wp-content/uploads/2023/02/St-Kilda-South-Port-Uniting-Church-Morning-Service.jpg
END:VEVENT
BEGIN:VEVENT
DTSTART;TZID=Australia/Melbourne:20241110T100000
DTEND;TZID=Australia/Melbourne:20241110T110000
DTSTAMP:20260425T074130
CREATED:20241108T071016Z
LAST-MODIFIED:20241108T071016Z
UID:4808-1731232800-1731236400@stkildasouthportunitingchurch.org.au
SUMMARY:Sunday Service
DESCRIPTION:Our weekly worship held at our church in South Melbourne.  Worship to nourish your soul and engage your senses. \nHoly Communion on the 1st Sunday of the month. \nWe are looking forward to seeing you\, all are welcome!
URL:https://stkildasouthportunitingchurch.org.au/event/sunday-service-2024-11-10/
LOCATION:South Melbourne\, 325 Dorcas St\, South Melbourne\, VIC\, 3205\, Australia
CATEGORIES:Church Service
ATTACH;FMTTYPE=image/jpeg:https://stkildasouthportunitingchurch.org.au/wp-content/uploads/2023/02/St-Kilda-South-Port-Uniting-Church-Morning-Service.jpg
END:VEVENT
BEGIN:VEVENT
DTSTART;TZID=Australia/Melbourne:20241103T100000
DTEND;TZID=Australia/Melbourne:20241103T110000
DTSTAMP:20260425T074130
CREATED:20240924T234315Z
LAST-MODIFIED:20240924T234315Z
UID:4749-1730628000-1730631600@stkildasouthportunitingchurch.org.au
SUMMARY:Sunday Service
DESCRIPTION:Our weekly worship held at our church in South Melbourne.  Worship to nourish your soul and engage your senses. \nHoly Communion on the 1st Sunday of the month. \nWe are looking forward to seeing you\, all are welcome!
URL:https://stkildasouthportunitingchurch.org.au/event/sunday-service-2024-11-03/
LOCATION:South Melbourne\, 325 Dorcas St\, South Melbourne\, VIC\, 3205\, Australia
CATEGORIES:Church Service
ATTACH;FMTTYPE=image/jpeg:https://stkildasouthportunitingchurch.org.au/wp-content/uploads/2023/02/St-Kilda-South-Port-Uniting-Church-Morning-Service.jpg
END:VEVENT
BEGIN:VEVENT
DTSTART;TZID=Australia/Melbourne:20241027T100000
DTEND;TZID=Australia/Melbourne:20241027T110000
DTSTAMP:20260425T074130
CREATED:20240924T234143Z
LAST-MODIFIED:20240924T234143Z
UID:4744-1730023200-1730026800@stkildasouthportunitingchurch.org.au
SUMMARY:Sunday Service
DESCRIPTION:Our weekly worship held at our church in South Melbourne.  Worship to nourish your soul and engage your senses. \nHoly Communion on the 1st Sunday of the month. \nWe are looking forward to seeing you\, all are welcome!
URL:https://stkildasouthportunitingchurch.org.au/event/sunday-service-2024-10-27/
LOCATION:South Melbourne\, 325 Dorcas St\, South Melbourne\, VIC\, 3205\, Australia
CATEGORIES:Church Service
ATTACH;FMTTYPE=image/jpeg:https://stkildasouthportunitingchurch.org.au/wp-content/uploads/2023/02/St-Kilda-South-Port-Uniting-Church-Morning-Service.jpg
END:VEVENT
BEGIN:VEVENT
DTSTART;TZID=Australia/Melbourne:20241020T100000
DTEND;TZID=Australia/Melbourne:20241020T110000
DTSTAMP:20260425T074130
CREATED:20240924T234022Z
LAST-MODIFIED:20240924T234022Z
UID:4740-1729418400-1729422000@stkildasouthportunitingchurch.org.au
SUMMARY:Sunday Service
DESCRIPTION:Our weekly worship held at our church in South Melbourne.  Worship to nourish your soul and engage your senses. \nHoly Communion on the 1st Sunday of the month. \nWe are looking forward to seeing you\, all are welcome!
URL:https://stkildasouthportunitingchurch.org.au/event/sunday-service-2024-10-20/
LOCATION:South Melbourne\, 325 Dorcas St\, South Melbourne\, VIC\, 3205\, Australia
CATEGORIES:Church Service
ATTACH;FMTTYPE=image/jpeg:https://stkildasouthportunitingchurch.org.au/wp-content/uploads/2023/02/St-Kilda-South-Port-Uniting-Church-Morning-Service.jpg
END:VEVENT
BEGIN:VEVENT
DTSTART;TZID=Australia/Melbourne:20241013T100000
DTEND;TZID=Australia/Melbourne:20241013T110000
DTSTAMP:20260425T074130
CREATED:20240924T233823Z
LAST-MODIFIED:20240924T233940Z
UID:4738-1728813600-1728817200@stkildasouthportunitingchurch.org.au
SUMMARY:Sunday Service
DESCRIPTION:Our weekly worship held at our church in South Melbourne.  Worship to nourish your soul and engage your senses. \nHoly Communion on the 1st Sunday of the month. \nWe are looking forward to seeing you\, all are welcome!
URL:https://stkildasouthportunitingchurch.org.au/event/sunday-service-2024-10-13/
LOCATION:South Melbourne\, 325 Dorcas St\, South Melbourne\, VIC\, 3205\, Australia
CATEGORIES:Church Service
ATTACH;FMTTYPE=image/jpeg:https://stkildasouthportunitingchurch.org.au/wp-content/uploads/2023/02/St-Kilda-South-Port-Uniting-Church-Morning-Service.jpg
END:VEVENT
BEGIN:VEVENT
DTSTART;TZID=Australia/Melbourne:20241006T100000
DTEND;TZID=Australia/Melbourne:20241006T110000
DTSTAMP:20260425T074130
CREATED:20240828T062312Z
LAST-MODIFIED:20240925T001909Z
UID:4698-1728208800-1728212400@stkildasouthportunitingchurch.org.au
SUMMARY:Sunday Service & Animal blessing
DESCRIPTION:Our weekly worship held at our church in South Melbourne.  Worship to nourish your soul and engage your senses. \nHoly Communion on the 1st Sunday of the month. \nWe are looking forward to seeing you\, all are welcome! \nThis Sunday will include a blessing of animals\nWell-behaved and suitably restrained pets are welcome – or bring a photo!
URL:https://stkildasouthportunitingchurch.org.au/event/sunday-service-2024-10-06/
LOCATION:South Melbourne\, 325 Dorcas St\, South Melbourne\, VIC\, 3205\, Australia
CATEGORIES:Church Service
ATTACH;FMTTYPE=image/jpeg:https://stkildasouthportunitingchurch.org.au/wp-content/uploads/2023/02/St-Kilda-South-Port-Uniting-Church-Morning-Service.jpg
END:VEVENT
BEGIN:VEVENT
DTSTART;TZID=Australia/Melbourne:20240929T100000
DTEND;TZID=Australia/Melbourne:20240929T110000
DTSTAMP:20260425T074130
CREATED:20240828T060851Z
LAST-MODIFIED:20240925T001452Z
UID:4678-1727604000-1727607600@stkildasouthportunitingchurch.org.au
SUMMARY:Sunday Service
DESCRIPTION:Our weekly worship held at our church in South Melbourne.  Worship to nourish your soul and engage your senses. \nThis Sunday we welcome new members to our congregation and will share lunch after the service. \nHoly Communion on the 1st Sunday of the month. \nWe are looking forward to seeing you\, all are welcome!
URL:https://stkildasouthportunitingchurch.org.au/event/sunday-service-2024-09-29/
LOCATION:South Melbourne\, 325 Dorcas St\, South Melbourne\, VIC\, 3205\, Australia
CATEGORIES:Church Service
ATTACH;FMTTYPE=image/jpeg:https://stkildasouthportunitingchurch.org.au/wp-content/uploads/2023/02/St-Kilda-South-Port-Uniting-Church-Morning-Service.jpg
END:VEVENT
BEGIN:VEVENT
DTSTART;TZID=Australia/Melbourne:20240922T100000
DTEND;TZID=Australia/Melbourne:20240922T110000
DTSTAMP:20260425T074130
CREATED:20240828T060720Z
LAST-MODIFIED:20240828T060720Z
UID:4676-1726999200-1727002800@stkildasouthportunitingchurch.org.au
SUMMARY:Sunday Service
DESCRIPTION:Our weekly worship held at our church in South Melbourne.  Worship to nourish your soul and engage your senses. \nHoly Communion on the 1st Sunday of the month. \nWe are looking forward to seeing you\, all are welcome!
URL:https://stkildasouthportunitingchurch.org.au/event/sunday-service-2024-09-22/
LOCATION:South Melbourne\, 325 Dorcas St\, South Melbourne\, VIC\, 3205\, Australia
CATEGORIES:Church Service
ATTACH;FMTTYPE=image/jpeg:https://stkildasouthportunitingchurch.org.au/wp-content/uploads/2023/02/St-Kilda-South-Port-Uniting-Church-Morning-Service.jpg
END:VEVENT
BEGIN:VEVENT
DTSTART;TZID=Australia/Melbourne:20240915T100000
DTEND;TZID=Australia/Melbourne:20240915T110000
DTSTAMP:20260425T074130
CREATED:20240828T060243Z
LAST-MODIFIED:20240828T060343Z
UID:4672-1726394400-1726398000@stkildasouthportunitingchurch.org.au
SUMMARY:Sunday Service
DESCRIPTION:Our weekly worship held at our church in South Melbourne.  Worship to nourish your soul and engage your senses. \nHoly Communion on the 1st Sunday of the month. \nWe are looking forward to seeing you\, all are welcome!
URL:https://stkildasouthportunitingchurch.org.au/event/sunday-service-2024-09-15/
LOCATION:South Melbourne\, 325 Dorcas St\, South Melbourne\, VIC\, 3205\, Australia
CATEGORIES:Church Service
ATTACH;FMTTYPE=image/jpeg:https://stkildasouthportunitingchurch.org.au/wp-content/uploads/2023/02/St-Kilda-South-Port-Uniting-Church-Morning-Service.jpg
END:VEVENT
BEGIN:VEVENT
DTSTART;TZID=Australia/Melbourne:20240908T100000
DTEND;TZID=Australia/Melbourne:20240908T110000
DTSTAMP:20260425T074130
CREATED:20240828T060640Z
LAST-MODIFIED:20240828T060640Z
UID:4674-1725789600-1725793200@stkildasouthportunitingchurch.org.au
SUMMARY:Sunday Service
DESCRIPTION:Our weekly worship held at our church in South Melbourne.  Worship to nourish your soul and engage your senses. \nHoly Communion on the 1st Sunday of the month. \nWe are looking forward to seeing you\, all are welcome!
URL:https://stkildasouthportunitingchurch.org.au/event/sunday-service-2024-09-08/
LOCATION:South Melbourne\, 325 Dorcas St\, South Melbourne\, VIC\, 3205\, Australia
CATEGORIES:Church Service
ATTACH;FMTTYPE=image/jpeg:https://stkildasouthportunitingchurch.org.au/wp-content/uploads/2023/02/St-Kilda-South-Port-Uniting-Church-Morning-Service.jpg
END:VEVENT
BEGIN:VEVENT
DTSTART;TZID=Australia/Melbourne:20240901T100000
DTEND;TZID=Australia/Melbourne:20240901T110000
DTSTAMP:20260425T074130
CREATED:20240814T044315Z
LAST-MODIFIED:20240814T044315Z
UID:4626-1725184800-1725188400@stkildasouthportunitingchurch.org.au
SUMMARY:Sunday Service
DESCRIPTION:Our weekly worship held at our church in South Melbourne.  Worship to nourish your soul and engage your senses. \nHoly Communion on the 1st Sunday of the month. \nWe are looking forward to seeing you\, all are welcome!
URL:https://stkildasouthportunitingchurch.org.au/event/sunday-service-2024-09-01/
LOCATION:South Melbourne\, 325 Dorcas St\, South Melbourne\, VIC\, 3205\, Australia
CATEGORIES:Church Service
ATTACH;FMTTYPE=image/jpeg:https://stkildasouthportunitingchurch.org.au/wp-content/uploads/2023/02/St-Kilda-South-Port-Uniting-Church-Morning-Service.jpg
END:VEVENT
BEGIN:VEVENT
DTSTART;TZID=Australia/Melbourne:20240825T100000
DTEND;TZID=Australia/Melbourne:20240825T110000
DTSTAMP:20260425T074130
CREATED:20240814T044221Z
LAST-MODIFIED:20240814T044221Z
UID:4624-1724580000-1724583600@stkildasouthportunitingchurch.org.au
SUMMARY:Sunday Service
DESCRIPTION:Our weekly worship held at our church in South Melbourne.  Worship to nourish your soul and engage your senses. \nHoly Communion on the 1st Sunday of the month. \nWe are looking forward to seeing you\, all are welcome!
URL:https://stkildasouthportunitingchurch.org.au/event/sunday-service-2024-08-25/
LOCATION:South Melbourne\, 325 Dorcas St\, South Melbourne\, VIC\, 3205\, Australia
CATEGORIES:Church Service
ATTACH;FMTTYPE=image/jpeg:https://stkildasouthportunitingchurch.org.au/wp-content/uploads/2023/02/St-Kilda-South-Port-Uniting-Church-Morning-Service.jpg
END:VEVENT
BEGIN:VEVENT
DTSTART;TZID=Australia/Melbourne:20240818T100000
DTEND;TZID=Australia/Melbourne:20240818T110000
DTSTAMP:20260425T074130
CREATED:20240814T044136Z
LAST-MODIFIED:20240814T044136Z
UID:4622-1723975200-1723978800@stkildasouthportunitingchurch.org.au
SUMMARY:Sunday Service
DESCRIPTION:Our weekly worship held at our church in South Melbourne.  Worship to nourish your soul and engage your senses. \nHoly Communion on the 1st Sunday of the month. \nWe are looking forward to seeing you\, all are welcome!
URL:https://stkildasouthportunitingchurch.org.au/event/sunday-service-2024-08-18/
LOCATION:South Melbourne\, 325 Dorcas St\, South Melbourne\, VIC\, 3205\, Australia
CATEGORIES:Church Service
ATTACH;FMTTYPE=image/jpeg:https://stkildasouthportunitingchurch.org.au/wp-content/uploads/2023/02/St-Kilda-South-Port-Uniting-Church-Morning-Service.jpg
END:VEVENT
BEGIN:VEVENT
DTSTART;TZID=Australia/Melbourne:20240811T100000
DTEND;TZID=Australia/Melbourne:20240811T110000
DTSTAMP:20260425T074130
CREATED:20240814T044038Z
LAST-MODIFIED:20240814T044038Z
UID:4620-1723370400-1723374000@stkildasouthportunitingchurch.org.au
SUMMARY:Sunday Service
DESCRIPTION:Our weekly worship held at our church in South Melbourne.  Worship to nourish your soul and engage your senses. \nHoly Communion on the 1st Sunday of the month. \nWe are looking forward to seeing you\, all are welcome!
URL:https://stkildasouthportunitingchurch.org.au/event/sunday-service-2024-08-11/
LOCATION:South Melbourne\, 325 Dorcas St\, South Melbourne\, VIC\, 3205\, Australia
CATEGORIES:Church Service
ATTACH;FMTTYPE=image/jpeg:https://stkildasouthportunitingchurch.org.au/wp-content/uploads/2023/02/St-Kilda-South-Port-Uniting-Church-Morning-Service.jpg
END:VEVENT
BEGIN:VEVENT
DTSTART;TZID=Australia/Melbourne:20240804T100000
DTEND;TZID=Australia/Melbourne:20240804T110000
DTSTAMP:20260425T074130
CREATED:20240703T002914Z
LAST-MODIFIED:20240703T002914Z
UID:4616-1722765600-1722769200@stkildasouthportunitingchurch.org.au
SUMMARY:Sunday Service
DESCRIPTION:Our weekly worship held at our church in South Melbourne.  Worship to nourish your soul and engage your senses. \nHoly Communion on the 1st Sunday of the month. \nWe are looking forward to seeing you\, all are welcome!
URL:https://stkildasouthportunitingchurch.org.au/event/sunday-service-2024-08-04/
LOCATION:South Melbourne\, 325 Dorcas St\, South Melbourne\, VIC\, 3205\, Australia
CATEGORIES:Church Service
ATTACH;FMTTYPE=image/jpeg:https://stkildasouthportunitingchurch.org.au/wp-content/uploads/2023/02/St-Kilda-South-Port-Uniting-Church-Morning-Service.jpg
END:VEVENT
BEGIN:VEVENT
DTSTART;TZID=Australia/Melbourne:20240728T100000
DTEND;TZID=Australia/Melbourne:20240728T110000
DTSTAMP:20260425T074130
CREATED:20240702T232841Z
LAST-MODIFIED:20240702T233219Z
UID:4561-1722160800-1722164400@stkildasouthportunitingchurch.org.au
SUMMARY:Sunday Service
DESCRIPTION:Our weekly worship held at our church in South Melbourne.  Worship to nourish your soul and engage your senses. \nHoly Communion on the 1st Sunday of the month. \nWe are looking forward to seeing you\, all are welcome!
URL:https://stkildasouthportunitingchurch.org.au/event/sunday-service-2024-07-28/
LOCATION:South Melbourne\, 325 Dorcas St\, South Melbourne\, VIC\, 3205\, Australia
CATEGORIES:Church Service
ATTACH;FMTTYPE=image/jpeg:https://stkildasouthportunitingchurch.org.au/wp-content/uploads/2023/02/St-Kilda-South-Port-Uniting-Church-Morning-Service.jpg
END:VEVENT
BEGIN:VEVENT
DTSTART;TZID=Australia/Melbourne:20240721T100000
DTEND;TZID=Australia/Melbourne:20240721T110000
DTSTAMP:20260425T074130
CREATED:20240702T232745Z
LAST-MODIFIED:20240702T232745Z
UID:4559-1721556000-1721559600@stkildasouthportunitingchurch.org.au
SUMMARY:Sunday Service
DESCRIPTION:Our weekly worship held at our church in South Melbourne.\nWorship to nourish your soul and engage your senses. \nHoly Communion on the 1st Sunday of the month. \nWe are looking forward to seeing you\, all are welcome!
URL:https://stkildasouthportunitingchurch.org.au/event/sunday-service-2024-07-21/
LOCATION:South Melbourne\, 325 Dorcas St\, South Melbourne\, VIC\, 3205\, Australia
CATEGORIES:Church Service
ATTACH;FMTTYPE=image/jpeg:https://stkildasouthportunitingchurch.org.au/wp-content/uploads/2023/02/St-Kilda-South-Port-Uniting-Church-Morning-Service.jpg
END:VEVENT
BEGIN:VEVENT
DTSTART;TZID=Australia/Melbourne:20240714T100000
DTEND;TZID=Australia/Melbourne:20240714T110000
DTSTAMP:20260425T074130
CREATED:20240702T232629Z
LAST-MODIFIED:20240702T232629Z
UID:4556-1720951200-1720954800@stkildasouthportunitingchurch.org.au
SUMMARY:Sunday Service
DESCRIPTION:Our weekly worship held at our church in South Melbourne.\nWorship to nourish your soul and engage your senses. \nHoly Communion on the 1st Sunday of the month. \nWe are looking forward to seeing you\, all are welcome!
URL:https://stkildasouthportunitingchurch.org.au/event/sunday-service-2024-07-14/
LOCATION:South Melbourne\, 325 Dorcas St\, South Melbourne\, VIC\, 3205\, Australia
CATEGORIES:Church Service
ATTACH;FMTTYPE=image/jpeg:https://stkildasouthportunitingchurch.org.au/wp-content/uploads/2023/02/St-Kilda-South-Port-Uniting-Church-Morning-Service.jpg
END:VEVENT
BEGIN:VEVENT
DTSTART;TZID=Australia/Melbourne:20240707T100000
DTEND;TZID=Australia/Melbourne:20240707T110000
DTSTAMP:20260425T074130
CREATED:20240702T232540Z
LAST-MODIFIED:20240702T233433Z
UID:4554-1720346400-1720350000@stkildasouthportunitingchurch.org.au
SUMMARY:Sunday Service
DESCRIPTION:Our weekly worship held at our church in South Melbourne.  Worship to nourish your soul and engage your senses. \nHoly Communion on the 1st Sunday of the month. \nWe are looking forward to seeing you\, all are welcome! \n\nSunday 7th July:  Seed Sunday with Guest preacher\, new CEO of Gatehouse\, Nickie Gyombar\nand of course   the breaking of the bread and the pouring of the wine! \nPlanting day 11.30-12.30  – join us as we start work on our pollinator garden in the Front Yard\n(byo garden gloves and wear suitable clothing and footwear)
URL:https://stkildasouthportunitingchurch.org.au/event/sunday-service-2024-07-07/
LOCATION:South Melbourne\, 325 Dorcas St\, South Melbourne\, VIC\, 3205\, Australia
CATEGORIES:Church Service
ATTACH;FMTTYPE=image/jpeg:https://stkildasouthportunitingchurch.org.au/wp-content/uploads/2023/02/St-Kilda-South-Port-Uniting-Church-Morning-Service.jpg
END:VEVENT
BEGIN:VEVENT
DTSTART;TZID=Australia/Melbourne:20240630T100000
DTEND;TZID=Australia/Melbourne:20240630T110000
DTSTAMP:20260425T074130
CREATED:20240607T051154Z
LAST-MODIFIED:20240607T051154Z
UID:4544-1719741600-1719745200@stkildasouthportunitingchurch.org.au
SUMMARY:Sunday Service
DESCRIPTION:Our weekly worship held at our church in South Melbourne. Worship to nourish your soul and engage your senses.\nHoly Communion on the 1st Sunday of the month. \nWe are looking forward to seeing you\, all are welcome!
URL:https://stkildasouthportunitingchurch.org.au/event/sunday-service-2024-05-26-3-2/
LOCATION:South Melbourne\, 325 Dorcas St\, South Melbourne\, VIC\, 3205\, Australia
CATEGORIES:Church Service
ATTACH;FMTTYPE=image/jpeg:https://stkildasouthportunitingchurch.org.au/wp-content/uploads/2023/02/St-Kilda-South-Port-Uniting-Church-Morning-Service.jpg
END:VEVENT
BEGIN:VEVENT
DTSTART;TZID=Australia/Melbourne:20240623T100000
DTEND;TZID=Australia/Melbourne:20240623T110000
DTSTAMP:20260425T074130
CREATED:20240607T051243Z
LAST-MODIFIED:20240607T051243Z
UID:4543-1719136800-1719140400@stkildasouthportunitingchurch.org.au
SUMMARY:Sunday Service
DESCRIPTION:Our weekly worship held at our church in South Melbourne. Worship to nourish your soul and engage your senses.\nHoly Communion on the 1st Sunday of the month. \nWe are looking forward to seeing you\, all are welcome!
URL:https://stkildasouthportunitingchurch.org.au/event/sunday-service-2024-05-26-3-3/
LOCATION:South Melbourne\, 325 Dorcas St\, South Melbourne\, VIC\, 3205\, Australia
CATEGORIES:Church Service
ATTACH;FMTTYPE=image/jpeg:https://stkildasouthportunitingchurch.org.au/wp-content/uploads/2023/02/St-Kilda-South-Port-Uniting-Church-Morning-Service.jpg
END:VEVENT
BEGIN:VEVENT
DTSTART;TZID=Australia/Melbourne:20240616T100000
DTEND;TZID=Australia/Melbourne:20240616T110000
DTSTAMP:20260425T074130
CREATED:20240607T050834Z
LAST-MODIFIED:20240607T051002Z
UID:4539-1718532000-1718535600@stkildasouthportunitingchurch.org.au
SUMMARY:Sunday Service
DESCRIPTION:Our weekly worship held at our church in South Melbourne. Worship to nourish your soul and engage your senses.\nHoly Communion on the 1st Sunday of the month. \nWe are looking forward to seeing you\, all are welcome!
URL:https://stkildasouthportunitingchurch.org.au/event/sunday-service-2024-05-26-2/
LOCATION:South Melbourne\, 325 Dorcas St\, South Melbourne\, VIC\, 3205\, Australia
CATEGORIES:Church Service
ATTACH;FMTTYPE=image/jpeg:https://stkildasouthportunitingchurch.org.au/wp-content/uploads/2023/02/St-Kilda-South-Port-Uniting-Church-Morning-Service.jpg
END:VEVENT
BEGIN:VEVENT
DTSTART;TZID=Australia/Melbourne:20240609T100000
DTEND;TZID=Australia/Melbourne:20240609T110000
DTSTAMP:20260425T074130
CREATED:20240607T050916Z
LAST-MODIFIED:20240607T050916Z
UID:4540-1717927200-1717930800@stkildasouthportunitingchurch.org.au
SUMMARY:Sunday Service
DESCRIPTION:Our weekly worship held at our church in South Melbourne. Worship to nourish your soul and engage your senses.\nHoly Communion on the 1st Sunday of the month. \nWe are looking forward to seeing you\, all are welcome!
URL:https://stkildasouthportunitingchurch.org.au/event/sunday-service-2024-05-26-3/
LOCATION:South Melbourne\, 325 Dorcas St\, South Melbourne\, VIC\, 3205\, Australia
CATEGORIES:Church Service
ATTACH;FMTTYPE=image/jpeg:https://stkildasouthportunitingchurch.org.au/wp-content/uploads/2023/02/St-Kilda-South-Port-Uniting-Church-Morning-Service.jpg
END:VEVENT
BEGIN:VEVENT
DTSTART;TZID=Australia/Melbourne:20240602T100000
DTEND;TZID=Australia/Melbourne:20240602T110000
DTSTAMP:20260425T074130
CREATED:20240607T051435Z
LAST-MODIFIED:20240607T051435Z
UID:4547-1717322400-1717326000@stkildasouthportunitingchurch.org.au
SUMMARY:Sunday Service
DESCRIPTION:Our weekly worship held at our church in South Melbourne. Worship to nourish your soul and engage your senses.\nHoly Communion on the 1st Sunday of the month. \nWe are looking forward to seeing you\, all are welcome!
URL:https://stkildasouthportunitingchurch.org.au/event/sunday-service-2024-05-26-2-2/
LOCATION:South Melbourne\, 325 Dorcas St\, South Melbourne\, VIC\, 3205\, Australia
CATEGORIES:Church Service
ATTACH;FMTTYPE=image/jpeg:https://stkildasouthportunitingchurch.org.au/wp-content/uploads/2023/02/St-Kilda-South-Port-Uniting-Church-Morning-Service.jpg
END:VEVENT
BEGIN:VEVENT
DTSTART;TZID=Australia/Melbourne:20240526T100000
DTEND;TZID=Australia/Melbourne:20240526T110000
DTSTAMP:20260425T074130
CREATED:20240402T060238Z
LAST-MODIFIED:20240402T060238Z
UID:4425-1716717600-1716721200@stkildasouthportunitingchurch.org.au
SUMMARY:Sunday Service
DESCRIPTION:Our weekly worship held at our church in South Melbourne. Worship to nourish your soul and engage your senses.\nHoly Communion on the 1st Sunday of the month. \nWe are looking forward to seeing you\, all are welcome!
URL:https://stkildasouthportunitingchurch.org.au/event/sunday-service-2024-05-26/
LOCATION:South Melbourne\, 325 Dorcas St\, South Melbourne\, VIC\, 3205\, Australia
CATEGORIES:Church Service
ATTACH;FMTTYPE=image/jpeg:https://stkildasouthportunitingchurch.org.au/wp-content/uploads/2023/02/St-Kilda-South-Port-Uniting-Church-Morning-Service.jpg
END:VEVENT
BEGIN:VEVENT
DTSTART;TZID=Australia/Melbourne:20240519T100000
DTEND;TZID=Australia/Melbourne:20240519T110000
DTSTAMP:20260425T074130
CREATED:20240402T053546Z
LAST-MODIFIED:20240402T053546Z
UID:4423-1716112800-1716116400@stkildasouthportunitingchurch.org.au
SUMMARY:Sunday Service
DESCRIPTION:Our weekly worship held at our church in South Melbourne. Worship to nourish your soul and engage your senses.\nHoly Communion on the 1st Sunday of the month. \nWe are looking forward to seeing you\, all are welcome!
URL:https://stkildasouthportunitingchurch.org.au/event/sunday-service-2024-05-19/
LOCATION:South Melbourne\, 325 Dorcas St\, South Melbourne\, VIC\, 3205\, Australia
CATEGORIES:Church Service
ATTACH;FMTTYPE=image/jpeg:https://stkildasouthportunitingchurch.org.au/wp-content/uploads/2023/02/St-Kilda-South-Port-Uniting-Church-Morning-Service.jpg
END:VEVENT
BEGIN:VEVENT
DTSTART;TZID=Australia/Melbourne:20240512T100000
DTEND;TZID=Australia/Melbourne:20240512T110000
DTSTAMP:20260425T074130
CREATED:20240402T053456Z
LAST-MODIFIED:20240402T053456Z
UID:4421-1715508000-1715511600@stkildasouthportunitingchurch.org.au
SUMMARY:Sunday Service
DESCRIPTION:Our weekly worship held at our church in South Melbourne. Worship to nourish your soul and engage your senses.\nHoly Communion on the 1st Sunday of the month. \nWe are looking forward to seeing you\, all are welcome!
URL:https://stkildasouthportunitingchurch.org.au/event/sunday-service-2024-05-12/
LOCATION:South Melbourne\, 325 Dorcas St\, South Melbourne\, VIC\, 3205\, Australia
CATEGORIES:Church Service
ATTACH;FMTTYPE=image/jpeg:https://stkildasouthportunitingchurch.org.au/wp-content/uploads/2023/02/St-Kilda-South-Port-Uniting-Church-Morning-Service.jpg
END:VEVENT
END:VCALENDAR