BEGIN:VCALENDAR
VERSION:2.0
PRODID:-//St Kilda Uniting Church - ECPv6.15.16//NONSGML v1.0//EN
CALSCALE:GREGORIAN
METHOD:PUBLISH
X-WR-CALNAME:St Kilda Uniting Church
X-ORIGINAL-URL:https://stkildasouthportunitingchurch.org.au
X-WR-CALDESC:Events for St Kilda Uniting Church
REFRESH-INTERVAL;VALUE=DURATION:PT1H
X-Robots-Tag:noindex
X-PUBLISHED-TTL:PT1H
BEGIN:VTIMEZONE
TZID:Australia/Melbourne
BEGIN:STANDARD
TZOFFSETFROM:+1100
TZOFFSETTO:+1000
TZNAME:AEST
DTSTART:20220402T160000
END:STANDARD
BEGIN:DAYLIGHT
TZOFFSETFROM:+1000
TZOFFSETTO:+1100
TZNAME:AEDT
DTSTART:20221001T160000
END:DAYLIGHT
BEGIN:STANDARD
TZOFFSETFROM:+1100
TZOFFSETTO:+1000
TZNAME:AEST
DTSTART:20230401T160000
END:STANDARD
BEGIN:DAYLIGHT
TZOFFSETFROM:+1000
TZOFFSETTO:+1100
TZNAME:AEDT
DTSTART:20230930T160000
END:DAYLIGHT
BEGIN:STANDARD
TZOFFSETFROM:+1100
TZOFFSETTO:+1000
TZNAME:AEST
DTSTART:20240406T160000
END:STANDARD
BEGIN:DAYLIGHT
TZOFFSETFROM:+1000
TZOFFSETTO:+1100
TZNAME:AEDT
DTSTART:20241005T160000
END:DAYLIGHT
BEGIN:STANDARD
TZOFFSETFROM:+1100
TZOFFSETTO:+1000
TZNAME:AEST
DTSTART:20250405T160000
END:STANDARD
BEGIN:DAYLIGHT
TZOFFSETFROM:+1000
TZOFFSETTO:+1100
TZNAME:AEDT
DTSTART:20251004T160000
END:DAYLIGHT
END:VTIMEZONE
BEGIN:VEVENT
DTSTART;TZID=Australia/Melbourne:20240214T173000
DTEND;TZID=Australia/Melbourne:20240214T183000
DTSTAMP:20260420T181255
CREATED:20240131T041529Z
LAST-MODIFIED:20240131T041529Z
UID:4359-1707931800-1707935400@stkildasouthportunitingchurch.org.au
SUMMARY:Ash Wednesday
DESCRIPTION:We are but dust and ashes .. yet for us .. the world was created. \nAsh Wednesday Service \nMeditation\, silence … with Rev John Tansey \n14th February @ 5.30 pm \n \n325 Dorcas St\, South Melbourne \nBecause I do not hope to turn again\nbecause I do not hoper\nBecause I do not hope to turn\nT.S. Eliot\n							print
URL:https://stkildasouthportunitingchurch.org.au/event/ash-wednesday-2024/
LOCATION:South Melbourne\, 325 Dorcas St\, South Melbourne\, VIC\, 3205\, Australia
ORGANIZER;CN="John Tansey":MAILTO:john.southportuca@gmail.com
END:VEVENT
BEGIN:VEVENT
DTSTART;TZID=Australia/Melbourne:20230406T080000
DTEND;TZID=Australia/Melbourne:20230406T083000
DTSTAMP:20260420T181255
CREATED:20230321T053853Z
LAST-MODIFIED:20230321T053853Z
UID:3792-1680768000-1680769800@stkildasouthportunitingchurch.org.au
SUMMARY:Online Meditation
DESCRIPTION:8.00am Mon-Thurs \nHalf an hour of meditation on Zoom \nOpen to anyone \nContact: John Tansey \n\n							print
URL:https://stkildasouthportunitingchurch.org.au/event/online-meditation-2023-04-06/
LOCATION:South Melbourne\, 325 Dorcas St\, South Melbourne\, VIC\, 3205\, Australia
CATEGORIES:Church Service
ATTACH;FMTTYPE=image/jpeg:https://stkildasouthportunitingchurch.org.au/wp-content/uploads/2023/02/St-Kilda-South-Port-Uniting-Church-Morning-Service.jpg
ORGANIZER;CN="John Tansey":MAILTO:john.southportuca@gmail.com
END:VEVENT
BEGIN:VEVENT
DTSTART;TZID=Australia/Melbourne:20230405T080000
DTEND;TZID=Australia/Melbourne:20230405T083000
DTSTAMP:20260420T181255
CREATED:20230321T053830Z
LAST-MODIFIED:20230321T053830Z
UID:3790-1680681600-1680683400@stkildasouthportunitingchurch.org.au
SUMMARY:Online Meditation
DESCRIPTION:8.00am Mon-Thurs \nHalf an hour of meditation on Zoom \nOpen to anyone \nContact: John Tansey \n\n							print
URL:https://stkildasouthportunitingchurch.org.au/event/online-meditation-2023-04-05/
LOCATION:South Melbourne\, 325 Dorcas St\, South Melbourne\, VIC\, 3205\, Australia
CATEGORIES:Church Service
ATTACH;FMTTYPE=image/jpeg:https://stkildasouthportunitingchurch.org.au/wp-content/uploads/2023/02/St-Kilda-South-Port-Uniting-Church-Morning-Service.jpg
ORGANIZER;CN="John Tansey":MAILTO:john.southportuca@gmail.com
END:VEVENT
BEGIN:VEVENT
DTSTART;TZID=Australia/Melbourne:20230404T080000
DTEND;TZID=Australia/Melbourne:20230404T083000
DTSTAMP:20260420T181255
CREATED:20230321T053759Z
LAST-MODIFIED:20230321T053759Z
UID:3788-1680595200-1680597000@stkildasouthportunitingchurch.org.au
SUMMARY:Online Meditation
DESCRIPTION:8.00am Mon-Thurs \nHalf an hour of meditation on Zoom \nOpen to anyone \nContact: John Tansey \n\n							print
URL:https://stkildasouthportunitingchurch.org.au/event/online-meditation-2023-04-04/
LOCATION:South Melbourne\, 325 Dorcas St\, South Melbourne\, VIC\, 3205\, Australia
CATEGORIES:Church Service
ATTACH;FMTTYPE=image/jpeg:https://stkildasouthportunitingchurch.org.au/wp-content/uploads/2023/02/St-Kilda-South-Port-Uniting-Church-Morning-Service.jpg
ORGANIZER;CN="John Tansey":MAILTO:john.southportuca@gmail.com
END:VEVENT
BEGIN:VEVENT
DTSTART;TZID=Australia/Melbourne:20230403T080000
DTEND;TZID=Australia/Melbourne:20230403T083000
DTSTAMP:20260420T181255
CREATED:20230321T053351Z
LAST-MODIFIED:20230321T053636Z
UID:3784-1680508800-1680510600@stkildasouthportunitingchurch.org.au
SUMMARY:Online Meditation
DESCRIPTION:8.00am Mon-Thurs \nHalf an hour of meditation on Zoom \nOpen to anyone \nContact: John Tansey \n\n							print
URL:https://stkildasouthportunitingchurch.org.au/event/online-meditation-2023-04-03/
LOCATION:South Melbourne\, 325 Dorcas St\, South Melbourne\, VIC\, 3205\, Australia
CATEGORIES:Church Service
ATTACH;FMTTYPE=image/jpeg:https://stkildasouthportunitingchurch.org.au/wp-content/uploads/2023/02/St-Kilda-South-Port-Uniting-Church-Morning-Service.jpg
ORGANIZER;CN="John Tansey":MAILTO:john.southportuca@gmail.com
END:VEVENT
END:VCALENDAR