BEGIN:VCALENDAR
VERSION:2.0
PRODID:-//St Kilda Uniting Church - ECPv6.15.16//NONSGML v1.0//EN
CALSCALE:GREGORIAN
METHOD:PUBLISH
X-WR-CALNAME:St Kilda Uniting Church
X-ORIGINAL-URL:https://stkildasouthportunitingchurch.org.au
X-WR-CALDESC:Events for St Kilda Uniting Church
REFRESH-INTERVAL;VALUE=DURATION:PT1H
X-Robots-Tag:noindex
X-PUBLISHED-TTL:PT1H
BEGIN:VTIMEZONE
TZID:Australia/Melbourne
BEGIN:STANDARD
TZOFFSETFROM:+1100
TZOFFSETTO:+1000
TZNAME:AEST
DTSTART:20220402T160000
END:STANDARD
BEGIN:DAYLIGHT
TZOFFSETFROM:+1000
TZOFFSETTO:+1100
TZNAME:AEDT
DTSTART:20221001T160000
END:DAYLIGHT
BEGIN:STANDARD
TZOFFSETFROM:+1100
TZOFFSETTO:+1000
TZNAME:AEST
DTSTART:20230401T160000
END:STANDARD
BEGIN:DAYLIGHT
TZOFFSETFROM:+1000
TZOFFSETTO:+1100
TZNAME:AEDT
DTSTART:20230930T160000
END:DAYLIGHT
BEGIN:STANDARD
TZOFFSETFROM:+1100
TZOFFSETTO:+1000
TZNAME:AEST
DTSTART:20240406T160000
END:STANDARD
BEGIN:DAYLIGHT
TZOFFSETFROM:+1000
TZOFFSETTO:+1100
TZNAME:AEDT
DTSTART:20241005T160000
END:DAYLIGHT
BEGIN:STANDARD
TZOFFSETFROM:+1100
TZOFFSETTO:+1000
TZNAME:AEST
DTSTART:20250405T160000
END:STANDARD
BEGIN:DAYLIGHT
TZOFFSETFROM:+1000
TZOFFSETTO:+1100
TZNAME:AEDT
DTSTART:20251004T160000
END:DAYLIGHT
END:VTIMEZONE
BEGIN:VEVENT
DTSTART;TZID=Australia/Melbourne:20240816T100000
DTEND;TZID=Australia/Melbourne:20240816T120000
DTSTAMP:20260425T045238
CREATED:20240814T044459Z
LAST-MODIFIED:20240814T044459Z
UID:4630-1723802400-1723809600@stkildasouthportunitingchurch.org.au
SUMMARY:Playgroup
DESCRIPTION:For children aged 0-4 with their parent/s or carers \nMeet other local families\nEnjoy a relaxed playtime indoors and outdoors\nand gardening & nature activities in the community garden.\nUniting Church hall\, Port Melbourne\n144 Bridge St (enter off Nott St) \nFridays 10am – 12 noon \n\n							print
URL:https://stkildasouthportunitingchurch.org.au/event/playgroup-2024-08-16/
LOCATION:Port Melbourne Uniting Church\, 144 Bridge St\, Port Melbourne\, 3207\, Australia
CATEGORIES:Playgroup
ATTACH;FMTTYPE=image/jpeg:https://stkildasouthportunitingchurch.org.au/wp-content/uploads/2023/03/Playgroup.jpg
ORGANIZER;CN="Janet Hoare":MAILTO:janet.hoare@sksp.org.au
END:VEVENT
BEGIN:VEVENT
DTSTART;TZID=Australia/Melbourne:20240809T100000
DTEND;TZID=Australia/Melbourne:20240809T120000
DTSTAMP:20260425T045238
CREATED:20240814T044431Z
LAST-MODIFIED:20240814T044431Z
UID:4628-1723197600-1723204800@stkildasouthportunitingchurch.org.au
SUMMARY:Playgroup
DESCRIPTION:For children aged 0-4 with their parent/s or carers \nMeet other local families\nEnjoy a relaxed playtime indoors and outdoors\nand gardening & nature activities in the community garden.\nUniting Church hall\, Port Melbourne\n144 Bridge St (enter off Nott St) \nFridays 10am – 12 noon \n\n							print
URL:https://stkildasouthportunitingchurch.org.au/event/playgroup-2024-08-09/
LOCATION:Port Melbourne Uniting Church\, 144 Bridge St\, Port Melbourne\, 3207\, Australia
CATEGORIES:Playgroup
ATTACH;FMTTYPE=image/jpeg:https://stkildasouthportunitingchurch.org.au/wp-content/uploads/2023/03/Playgroup.jpg
ORGANIZER;CN="Janet Hoare":MAILTO:janet.hoare@sksp.org.au
END:VEVENT
BEGIN:VEVENT
DTSTART;TZID=Australia/Melbourne:20240802T100000
DTEND;TZID=Australia/Melbourne:20240802T120000
DTSTAMP:20260425T045238
CREATED:20240703T002759Z
LAST-MODIFIED:20240703T002759Z
UID:4614-1722592800-1722600000@stkildasouthportunitingchurch.org.au
SUMMARY:Playgroup
DESCRIPTION:For children aged 0-4 with their parent/s or carers \nMeet other local families\nEnjoy a relaxed playtime indoors and outdoors\nand gardening & nature activities in the community garden.\nUniting Church hall\, Port Melbourne\n144 Bridge St (enter off Nott St) \nFridays 10am – 12 noon \n\n							print
URL:https://stkildasouthportunitingchurch.org.au/event/playgroup-2024-08-02/
LOCATION:Port Melbourne Uniting Church\, 144 Bridge St\, Port Melbourne\, 3207\, Australia
CATEGORIES:Playgroup
ATTACH;FMTTYPE=image/jpeg:https://stkildasouthportunitingchurch.org.au/wp-content/uploads/2023/03/Playgroup.jpg
ORGANIZER;CN="Janet Hoare":MAILTO:janet.hoare@sksp.org.au
END:VEVENT
BEGIN:VEVENT
DTSTART;TZID=Australia/Melbourne:20240726T100000
DTEND;TZID=Australia/Melbourne:20240726T120000
DTSTAMP:20260425T045238
CREATED:20240702T233927Z
LAST-MODIFIED:20240702T233927Z
UID:4572-1721988000-1721995200@stkildasouthportunitingchurch.org.au
SUMMARY:Playgroup
DESCRIPTION:For children aged 0-4 with their parent/s or carers \nMeet other local families\nEnjoy a relaxed playtime indoors and outdoors\nand gardening & nature activities in the community garden.\nUniting Church hall\, Port Melbourne\n144 Bridge St (enter off Nott St) \nFridays 10am – 12 noon \n\n							print
URL:https://stkildasouthportunitingchurch.org.au/event/playgroup-2024-07-26/
LOCATION:Port Melbourne Uniting Church\, 144 Bridge St\, Port Melbourne\, 3207\, Australia
CATEGORIES:Playgroup
ATTACH;FMTTYPE=image/jpeg:https://stkildasouthportunitingchurch.org.au/wp-content/uploads/2023/03/Playgroup.jpg
ORGANIZER;CN="Janet Hoare":MAILTO:janet.hoare@sksp.org.au
END:VEVENT
BEGIN:VEVENT
DTSTART;TZID=Australia/Melbourne:20240719T100000
DTEND;TZID=Australia/Melbourne:20240719T120000
DTSTAMP:20260425T045238
CREATED:20240702T233840Z
LAST-MODIFIED:20240702T233840Z
UID:4570-1721383200-1721390400@stkildasouthportunitingchurch.org.au
SUMMARY:Playgroup
DESCRIPTION:For children aged 0-4 with their parent/s or carers \nMeet other local families\nEnjoy a relaxed playtime indoors and outdoors\nand gardening & nature activities in the community garden.\nUniting Church hall\, Port Melbourne\n144 Bridge St (enter off Nott St) \nFridays 10am – 12 noon \n\n							print
URL:https://stkildasouthportunitingchurch.org.au/event/playgroup-2024-07-19/
LOCATION:Port Melbourne Uniting Church\, 144 Bridge St\, Port Melbourne\, 3207\, Australia
CATEGORIES:Playgroup
ATTACH;FMTTYPE=image/jpeg:https://stkildasouthportunitingchurch.org.au/wp-content/uploads/2023/03/Playgroup.jpg
ORGANIZER;CN="Janet Hoare":MAILTO:janet.hoare@sksp.org.au
END:VEVENT
BEGIN:VEVENT
DTSTART;TZID=Australia/Melbourne:20240712T100000
DTEND;TZID=Australia/Melbourne:20240712T120000
DTSTAMP:20260425T045238
CREATED:20240702T233802Z
LAST-MODIFIED:20240702T233802Z
UID:4568-1720778400-1720785600@stkildasouthportunitingchurch.org.au
SUMMARY:Playgroup
DESCRIPTION:For children aged 0-4 with their parent/s or carers \nMeet other local families\nEnjoy a relaxed playtime indoors and outdoors\nand gardening & nature activities in the community garden.\nUniting Church hall\, Port Melbourne\n144 Bridge St (enter off Nott St) \nFridays 10am – 12 noon \n\n							print
URL:https://stkildasouthportunitingchurch.org.au/event/playgroup-2024-07-12/
LOCATION:Port Melbourne Uniting Church\, 144 Bridge St\, Port Melbourne\, 3207\, Australia
CATEGORIES:Playgroup
ATTACH;FMTTYPE=image/jpeg:https://stkildasouthportunitingchurch.org.au/wp-content/uploads/2023/03/Playgroup.jpg
ORGANIZER;CN="Janet Hoare":MAILTO:janet.hoare@sksp.org.au
END:VEVENT
BEGIN:VEVENT
DTSTART;TZID=Australia/Melbourne:20240707T113000
DTEND;TZID=Australia/Melbourne:20240707T123000
DTSTAMP:20260425T045238
CREATED:20240703T001910Z
LAST-MODIFIED:20240703T002515Z
UID:4609-1720351800-1720355400@stkildasouthportunitingchurch.org.au
SUMMARY:Front Yard bee garden
DESCRIPTION:Join us to make the Front Yard at the South Melbourne church a special space. \nSunday 7th July\, 11.30 – 12.30 (after the morning church service)\nwe’ll start planting a pollinator garden to connect with the Melbourne Pollinator Corridor \nbyo garden gloves and wear suitable clothing and footwear\n							print
URL:https://stkildasouthportunitingchurch.org.au/event/front-yard-gardening-24-07-07/
LOCATION:South Melbourne\, 325 Dorcas St\, South Melbourne\, VIC\, 3205\, Australia
ORGANIZER;CN="Rev Alex Sangster":MAILTO:alisangster@gmail.com
END:VEVENT
BEGIN:VEVENT
DTSTART;TZID=Australia/Melbourne:20240705T100000
DTEND;TZID=Australia/Melbourne:20240705T120000
DTSTAMP:20260425T045238
CREATED:20240702T233723Z
LAST-MODIFIED:20240702T233723Z
UID:4565-1720173600-1720180800@stkildasouthportunitingchurch.org.au
SUMMARY:Playgroup
DESCRIPTION:For children aged 0-4 with their parent/s or carers \nMeet other local families\nEnjoy a relaxed playtime indoors and outdoors\nand gardening & nature activities in the community garden.\nUniting Church hall\, Port Melbourne\n144 Bridge St (enter off Nott St) \nFridays 10am – 12 noon \n\n							print
URL:https://stkildasouthportunitingchurch.org.au/event/playgroup-2024-07-05/
LOCATION:Port Melbourne Uniting Church\, 144 Bridge St\, Port Melbourne\, 3207\, Australia
CATEGORIES:Playgroup
ATTACH;FMTTYPE=image/jpeg:https://stkildasouthportunitingchurch.org.au/wp-content/uploads/2023/03/Playgroup.jpg
ORGANIZER;CN="Janet Hoare":MAILTO:janet.hoare@sksp.org.au
END:VEVENT
BEGIN:VEVENT
DTSTART;TZID=Australia/Melbourne:20240628T100000
DTEND;TZID=Australia/Melbourne:20240628T120000
DTSTAMP:20260425T045238
CREATED:20240607T043659Z
LAST-MODIFIED:20240607T043801Z
UID:4516-1719568800-1719576000@stkildasouthportunitingchurch.org.au
SUMMARY:Playgroup
DESCRIPTION:For children aged 0-4 with their parent/s or carers \nMeet other local families\nEnjoy a relaxed playtime indoors and outdoors\nand gardening & nature activities in the community garden.\nUniting Church hall\, Port Melbourne\n144 Bridge St (enter off Nott St) \nFridays 10am – 12 noon\, during school term time \n\n							print
URL:https://stkildasouthportunitingchurch.org.au/event/playgroup-2024-05-31-2-3/
LOCATION:Port Melbourne Uniting Church\, 144 Bridge St\, Port Melbourne\, 3207\, Australia
CATEGORIES:Playgroup
ATTACH;FMTTYPE=image/jpeg:https://stkildasouthportunitingchurch.org.au/wp-content/uploads/2023/03/Playgroup.jpg
ORGANIZER;CN="Janet Hoare":MAILTO:janet.hoare@sksp.org.au
END:VEVENT
BEGIN:VEVENT
DTSTART;TZID=Australia/Melbourne:20240621T100000
DTEND;TZID=Australia/Melbourne:20240621T120000
DTSTAMP:20260425T045238
CREATED:20240607T043615Z
LAST-MODIFIED:20240607T043615Z
UID:4515-1718964000-1718971200@stkildasouthportunitingchurch.org.au
SUMMARY:Playgroup
DESCRIPTION:For children aged 0-4 with their parent/s or carers \nMeet other local families\nEnjoy a relaxed playtime indoors and outdoors\nand gardening & nature activities in the community garden.\nUniting Church hall\, Port Melbourne\n144 Bridge St (enter off Nott St) \nFridays 10am – 12 noon\, during school term time \n\n							print
URL:https://stkildasouthportunitingchurch.org.au/event/playgroup-2024-05-31-2-2/
LOCATION:Port Melbourne Uniting Church\, 144 Bridge St\, Port Melbourne\, 3207\, Australia
CATEGORIES:Playgroup
ATTACH;FMTTYPE=image/jpeg:https://stkildasouthportunitingchurch.org.au/wp-content/uploads/2023/03/Playgroup.jpg
ORGANIZER;CN="Janet Hoare":MAILTO:janet.hoare@sksp.org.au
END:VEVENT
BEGIN:VEVENT
DTSTART;TZID=Australia/Melbourne:20240614T100000
DTEND;TZID=Australia/Melbourne:20240614T120000
DTSTAMP:20260425T045238
CREATED:20240607T043427Z
LAST-MODIFIED:20240607T043427Z
UID:4513-1718359200-1718366400@stkildasouthportunitingchurch.org.au
SUMMARY:Playgroup
DESCRIPTION:For children aged 0-4 with their parent/s or carers \nMeet other local families\nEnjoy a relaxed playtime indoors and outdoors\nand gardening & nature activities in the community garden.\nUniting Church hall\, Port Melbourne\n144 Bridge St (enter off Nott St) \nFridays 10am – 12 noon\, during school term time \n\n							print
URL:https://stkildasouthportunitingchurch.org.au/event/playgroup-2024-05-31-2/
LOCATION:Port Melbourne Uniting Church\, 144 Bridge St\, Port Melbourne\, 3207\, Australia
CATEGORIES:Playgroup
ATTACH;FMTTYPE=image/jpeg:https://stkildasouthportunitingchurch.org.au/wp-content/uploads/2023/03/Playgroup.jpg
ORGANIZER;CN="Janet Hoare":MAILTO:janet.hoare@sksp.org.au
END:VEVENT
BEGIN:VEVENT
DTSTART;TZID=Australia/Melbourne:20240607T100000
DTEND;TZID=Australia/Melbourne:20240607T120000
DTSTAMP:20260425T045238
CREATED:20240607T043508Z
LAST-MODIFIED:20240607T043508Z
UID:4511-1717754400-1717761600@stkildasouthportunitingchurch.org.au
SUMMARY:Playgroup
DESCRIPTION:For children aged 0-4 with their parent/s or carers \nMeet other local families\nEnjoy a relaxed playtime indoors and outdoors\nand gardening & nature activities in the community garden.\nUniting Church hall\, Port Melbourne\n144 Bridge St (enter off Nott St) \nFridays 10am – 12 noon\, during school term time \n\n							print
URL:https://stkildasouthportunitingchurch.org.au/event/playgroup-2024-05-31-3/
LOCATION:Port Melbourne Uniting Church\, 144 Bridge St\, Port Melbourne\, 3207\, Australia
CATEGORIES:Playgroup
ATTACH;FMTTYPE=image/jpeg:https://stkildasouthportunitingchurch.org.au/wp-content/uploads/2023/03/Playgroup.jpg
ORGANIZER;CN="Janet Hoare":MAILTO:janet.hoare@sksp.org.au
END:VEVENT
BEGIN:VEVENT
DTSTART;TZID=Australia/Melbourne:20240531T100000
DTEND;TZID=Australia/Melbourne:20240531T120000
DTSTAMP:20260425T045238
CREATED:20240402T055201Z
LAST-MODIFIED:20240402T055201Z
UID:4440-1717149600-1717156800@stkildasouthportunitingchurch.org.au
SUMMARY:Playgroup
DESCRIPTION:For children aged 0-4 with their parent/s or carers \nMeet other local families\nEnjoy a relaxed playtime indoors and outdoors\nand gardening & nature activities in the community garden.\nUniting Church hall\, Port Melbourne\n144 Bridge St (enter off Nott St) \nFridays 10am – 12 noon\, during school term time \n\n							print
URL:https://stkildasouthportunitingchurch.org.au/event/playgroup-2024-05-31/
LOCATION:Port Melbourne Uniting Church\, 144 Bridge St\, Port Melbourne\, 3207\, Australia
CATEGORIES:Playgroup
ATTACH;FMTTYPE=image/jpeg:https://stkildasouthportunitingchurch.org.au/wp-content/uploads/2023/03/Playgroup.jpg
ORGANIZER;CN="Janet Hoare":MAILTO:janet.hoare@sksp.org.au
END:VEVENT
BEGIN:VEVENT
DTSTART;TZID=Australia/Melbourne:20240524T100000
DTEND;TZID=Australia/Melbourne:20240524T120000
DTSTAMP:20260425T045238
CREATED:20240402T055117Z
LAST-MODIFIED:20240402T055117Z
UID:4438-1716544800-1716552000@stkildasouthportunitingchurch.org.au
SUMMARY:Playgroup
DESCRIPTION:For children aged 0-4 with their parent/s or carers \nMeet other local families\nEnjoy a relaxed playtime indoors and outdoors\nand gardening & nature activities in the community garden.\nUniting Church hall\, Port Melbourne\n144 Bridge St (enter off Nott St) \nFridays 10am – 12 noon\, during school term time \n\n							print
URL:https://stkildasouthportunitingchurch.org.au/event/playgroup-2024-05-24/
LOCATION:Port Melbourne Uniting Church\, 144 Bridge St\, Port Melbourne\, 3207\, Australia
CATEGORIES:Playgroup
ATTACH;FMTTYPE=image/jpeg:https://stkildasouthportunitingchurch.org.au/wp-content/uploads/2023/03/Playgroup.jpg
ORGANIZER;CN="Janet Hoare":MAILTO:janet.hoare@sksp.org.au
END:VEVENT
BEGIN:VEVENT
DTSTART;TZID=Australia/Melbourne:20240517T100000
DTEND;TZID=Australia/Melbourne:20240517T120000
DTSTAMP:20260425T045238
CREATED:20240402T055016Z
LAST-MODIFIED:20240402T055016Z
UID:4436-1715940000-1715947200@stkildasouthportunitingchurch.org.au
SUMMARY:Playgroup
DESCRIPTION:For children aged 0-4 with their parent/s or carers \nMeet other local families\nEnjoy a relaxed playtime indoors and outdoors\nand gardening & nature activities in the community garden.\nUniting Church hall\, Port Melbourne\n144 Bridge St (enter off Nott St) \nFridays 10am – 12 noon\, during school term time \n\n							print
URL:https://stkildasouthportunitingchurch.org.au/event/playgroup-2024-05-17/
LOCATION:Port Melbourne Uniting Church\, 144 Bridge St\, Port Melbourne\, 3207\, Australia
CATEGORIES:Playgroup
ATTACH;FMTTYPE=image/jpeg:https://stkildasouthportunitingchurch.org.au/wp-content/uploads/2023/03/Playgroup.jpg
ORGANIZER;CN="Janet Hoare":MAILTO:janet.hoare@sksp.org.au
END:VEVENT
BEGIN:VEVENT
DTSTART;TZID=Australia/Melbourne:20240510T100000
DTEND;TZID=Australia/Melbourne:20240510T120000
DTSTAMP:20260425T045238
CREATED:20240402T054926Z
LAST-MODIFIED:20240402T054926Z
UID:4434-1715335200-1715342400@stkildasouthportunitingchurch.org.au
SUMMARY:Playgroup
DESCRIPTION:For children aged 0-4 with their parent/s or carers \nMeet other local families\nEnjoy a relaxed playtime indoors and outdoors\nand gardening & nature activities in the community garden.\nUniting Church hall\, Port Melbourne\n144 Bridge St (enter off Nott St) \nFridays 10am – 12 noon\, during school term time \n\n							print
URL:https://stkildasouthportunitingchurch.org.au/event/playgroup-2024-05-10/
LOCATION:Port Melbourne Uniting Church\, 144 Bridge St\, Port Melbourne\, 3207\, Australia
CATEGORIES:Playgroup
ATTACH;FMTTYPE=image/jpeg:https://stkildasouthportunitingchurch.org.au/wp-content/uploads/2023/03/Playgroup.jpg
ORGANIZER;CN="Janet Hoare":MAILTO:janet.hoare@sksp.org.au
END:VEVENT
BEGIN:VEVENT
DTSTART;TZID=Australia/Melbourne:20240503T100000
DTEND;TZID=Australia/Melbourne:20240503T120000
DTSTAMP:20260425T045238
CREATED:20240402T054812Z
LAST-MODIFIED:20240402T054812Z
UID:4432-1714730400-1714737600@stkildasouthportunitingchurch.org.au
SUMMARY:Playgroup
DESCRIPTION:For children aged 0-4 with their parent/s or carers \nMeet other local families\nEnjoy a relaxed playtime indoors and outdoors\nand gardening & nature activities in the community garden.\nUniting Church hall\, Port Melbourne\n144 Bridge St (enter off Nott St) \nFridays 10am – 12 noon\, during school term time \n\n							print
URL:https://stkildasouthportunitingchurch.org.au/event/playgroup-2024-05-03/
LOCATION:Port Melbourne Uniting Church\, 144 Bridge St\, Port Melbourne\, 3207\, Australia
CATEGORIES:Playgroup
ATTACH;FMTTYPE=image/jpeg:https://stkildasouthportunitingchurch.org.au/wp-content/uploads/2023/03/Playgroup.jpg
ORGANIZER;CN="Janet Hoare":MAILTO:janet.hoare@sksp.org.au
END:VEVENT
BEGIN:VEVENT
DTSTART;TZID=Australia/Melbourne:20240426T100000
DTEND;TZID=Australia/Melbourne:20240426T120000
DTSTAMP:20260425T045238
CREATED:20240402T054419Z
LAST-MODIFIED:20240402T054419Z
UID:4430-1714125600-1714132800@stkildasouthportunitingchurch.org.au
SUMMARY:Playgroup
DESCRIPTION:For children aged 0-4 with their parent/s or carers \nMeet other local families\nEnjoy a relaxed playtime indoors and outdoors\nand gardening & nature activities in the community garden.\nUniting Church hall\, Port Melbourne\n144 Bridge St (enter off Nott St) \nFridays 10am – 12 noon\, during school term time \n\n							print
URL:https://stkildasouthportunitingchurch.org.au/event/playgroup-2024-04-26/
LOCATION:Port Melbourne Uniting Church\, 144 Bridge St\, Port Melbourne\, 3207\, Australia
CATEGORIES:Playgroup
ATTACH;FMTTYPE=image/jpeg:https://stkildasouthportunitingchurch.org.au/wp-content/uploads/2023/03/Playgroup.jpg
ORGANIZER;CN="Janet Hoare":MAILTO:janet.hoare@sksp.org.au
END:VEVENT
BEGIN:VEVENT
DTSTART;TZID=Australia/Melbourne:20240419T100000
DTEND;TZID=Australia/Melbourne:20240419T120000
DTSTAMP:20260425T045238
CREATED:20240402T054230Z
LAST-MODIFIED:20240402T054230Z
UID:4427-1713520800-1713528000@stkildasouthportunitingchurch.org.au
SUMMARY:Playgroup
DESCRIPTION:For children aged 0-4 with their parent/s or carers \nMeet other local families\nEnjoy a relaxed playtime indoors and outdoors\nand gardening & nature activities in the community garden.\nUniting Church hall\, Port Melbourne\n144 Bridge St (enter off Nott St) \nFridays 10am – 12 noon\, during school term time \n\n							print
URL:https://stkildasouthportunitingchurch.org.au/event/playgroup-2024-04-19/
LOCATION:Port Melbourne Uniting Church\, 144 Bridge St\, Port Melbourne\, 3207\, Australia
CATEGORIES:Playgroup
ATTACH;FMTTYPE=image/jpeg:https://stkildasouthportunitingchurch.org.au/wp-content/uploads/2023/03/Playgroup.jpg
ORGANIZER;CN="Janet Hoare":MAILTO:janet.hoare@sksp.org.au
END:VEVENT
BEGIN:VEVENT
DTSTART;TZID=Australia/Melbourne:20240322T100000
DTEND;TZID=Australia/Melbourne:20240322T120000
DTSTAMP:20260425T045238
CREATED:20240301T060442Z
LAST-MODIFIED:20240301T060442Z
UID:4380-1711101600-1711108800@stkildasouthportunitingchurch.org.au
SUMMARY:Playgroup
DESCRIPTION:For children aged 0-4 with their parent/s or carers \nMeet other local families\nEnjoy a relaxed playtime indoors\nand gardening & nature activities in the community garden.\nUniting Church hall\, Port Melbourne\n144 Bridge St (enter off Nott St) \n\n							print
URL:https://stkildasouthportunitingchurch.org.au/event/playgroup-2024-03-22/
LOCATION:Port Melbourne Uniting Church\, 144 Bridge St\, Port Melbourne\, 3207\, Australia
CATEGORIES:Playgroup
ATTACH;FMTTYPE=image/jpeg:https://stkildasouthportunitingchurch.org.au/wp-content/uploads/2023/03/Playgroup.jpg
ORGANIZER;CN="Janet Hoare":MAILTO:janet.hoare@sksp.org.au
END:VEVENT
BEGIN:VEVENT
DTSTART;TZID=Australia/Melbourne:20240315T100000
DTEND;TZID=Australia/Melbourne:20240315T120000
DTSTAMP:20260425T045238
CREATED:20240301T060404Z
LAST-MODIFIED:20240301T060404Z
UID:4378-1710496800-1710504000@stkildasouthportunitingchurch.org.au
SUMMARY:Playgroup
DESCRIPTION:For children aged 0-4 with their parent/s or carers \nMeet other local families\nEnjoy a relaxed playtime indoors\nand gardening & nature activities in the community garden.\nUniting Church hall\, Port Melbourne\n144 Bridge St (enter off Nott St) \n\n							print
URL:https://stkildasouthportunitingchurch.org.au/event/playgroup-2024-03-15/
LOCATION:Port Melbourne Uniting Church\, 144 Bridge St\, Port Melbourne\, 3207\, Australia
CATEGORIES:Playgroup
ATTACH;FMTTYPE=image/jpeg:https://stkildasouthportunitingchurch.org.au/wp-content/uploads/2023/03/Playgroup.jpg
ORGANIZER;CN="Janet Hoare":MAILTO:janet.hoare@sksp.org.au
END:VEVENT
BEGIN:VEVENT
DTSTART;TZID=Australia/Melbourne:20240308T100000
DTEND;TZID=Australia/Melbourne:20240308T120000
DTSTAMP:20260425T045238
CREATED:20240301T060324Z
LAST-MODIFIED:20240301T060324Z
UID:4376-1709892000-1709899200@stkildasouthportunitingchurch.org.au
SUMMARY:Playgroup
DESCRIPTION:For children aged 0-4 with their parent/s or carers \nMeet other local families\nEnjoy a relaxed playtime indoors\nand gardening & nature activities in the community garden.\nUniting Church hall\, Port Melbourne\n144 Bridge St (enter off Nott St) \n\n							print
URL:https://stkildasouthportunitingchurch.org.au/event/playgroup-2024-03-08/
LOCATION:Port Melbourne Uniting Church\, 144 Bridge St\, Port Melbourne\, 3207\, Australia
CATEGORIES:Playgroup
ATTACH;FMTTYPE=image/jpeg:https://stkildasouthportunitingchurch.org.au/wp-content/uploads/2023/03/Playgroup.jpg
ORGANIZER;CN="Janet Hoare":MAILTO:janet.hoare@sksp.org.au
END:VEVENT
BEGIN:VEVENT
DTSTART;TZID=Australia/Melbourne:20240301T100000
DTEND;TZID=Australia/Melbourne:20240301T120000
DTSTAMP:20260425T045238
CREATED:20240124T004639Z
LAST-MODIFIED:20240124T004639Z
UID:4349-1709287200-1709294400@stkildasouthportunitingchurch.org.au
SUMMARY:Playgroup
DESCRIPTION:For children aged 0-4 with their parent/s or carers \nMeet other local families\nEnjoy a relaxed playtime indoors\nand gardening & nature activities in the community garden.\nUniting Church hall\, Port Melbourne\n144 Bridge St (enter off Nott St) \n\n							print
URL:https://stkildasouthportunitingchurch.org.au/event/playgroup-2024-03-01/
LOCATION:Port Melbourne Uniting Church\, 144 Bridge St\, Port Melbourne\, 3207\, Australia
CATEGORIES:Playgroup
ATTACH;FMTTYPE=image/jpeg:https://stkildasouthportunitingchurch.org.au/wp-content/uploads/2023/03/Playgroup.jpg
ORGANIZER;CN="Janet Hoare":MAILTO:janet.hoare@sksp.org.au
END:VEVENT
BEGIN:VEVENT
DTSTART;TZID=Australia/Melbourne:20240223T100000
DTEND;TZID=Australia/Melbourne:20240223T120000
DTSTAMP:20260425T045238
CREATED:20240124T002924Z
LAST-MODIFIED:20240124T002924Z
UID:4324-1708682400-1708689600@stkildasouthportunitingchurch.org.au
SUMMARY:Playgroup
DESCRIPTION:For children aged 0-4 with their parent/s or carers \nMeet other local families\nEnjoy a relaxed playtime indoors\nand gardening & nature activities in the community garden.\nUniting Church hall\, Port Melbourne\n144 Bridge St (enter off Nott St) \n\n							print
URL:https://stkildasouthportunitingchurch.org.au/event/playgroup-2024-02-23/
LOCATION:Port Melbourne Uniting Church\, 144 Bridge St\, Port Melbourne\, 3207\, Australia
CATEGORIES:Playgroup
ATTACH;FMTTYPE=image/jpeg:https://stkildasouthportunitingchurch.org.au/wp-content/uploads/2023/03/Playgroup.jpg
ORGANIZER;CN="Janet Hoare":MAILTO:janet.hoare@sksp.org.au
END:VEVENT
BEGIN:VEVENT
DTSTART;TZID=Australia/Melbourne:20240216T100000
DTEND;TZID=Australia/Melbourne:20240216T120000
DTSTAMP:20260425T045238
CREATED:20240124T002845Z
LAST-MODIFIED:20240124T002845Z
UID:4322-1708077600-1708084800@stkildasouthportunitingchurch.org.au
SUMMARY:Playgroup
DESCRIPTION:For children aged 0-4 with their parent/s or carers \nMeet other local families\nEnjoy a relaxed playtime indoors\nand gardening & nature activities in the community garden.\nUniting Church hall\, Port Melbourne\n144 Bridge St (enter off Nott St) \n\n							print
URL:https://stkildasouthportunitingchurch.org.au/event/playgroup-2024-02-16/
LOCATION:Port Melbourne Uniting Church\, 144 Bridge St\, Port Melbourne\, 3207\, Australia
CATEGORIES:Playgroup
ATTACH;FMTTYPE=image/jpeg:https://stkildasouthportunitingchurch.org.au/wp-content/uploads/2023/03/Playgroup.jpg
ORGANIZER;CN="Janet Hoare":MAILTO:janet.hoare@sksp.org.au
END:VEVENT
BEGIN:VEVENT
DTSTART;TZID=Australia/Melbourne:20240211T170000
DTEND;TZID=Australia/Melbourne:20240211T183000
DTSTAMP:20260425T045238
CREATED:20240131T042425Z
LAST-MODIFIED:20240131T042425Z
UID:4364-1707670800-1707676200@stkildasouthportunitingchurch.org.au
SUMMARY:Messy Church
DESCRIPTION:Popping up Sun 11th Feb\, 5-6.30 pm\n@ 325 Dorcas St\, South Melbourne \n\n							print
URL:https://stkildasouthportunitingchurch.org.au/event/messy-church-2024-02-11/
LOCATION:South Melbourne\, 325 Dorcas St\, South Melbourne\, VIC\, 3205\, Australia
ORGANIZER;CN="Rev Alex Sangster":MAILTO:alisangster@gmail.com
END:VEVENT
BEGIN:VEVENT
DTSTART;TZID=Australia/Melbourne:20240209T100000
DTEND;TZID=Australia/Melbourne:20240209T120000
DTSTAMP:20260425T045238
CREATED:20240124T002806Z
LAST-MODIFIED:20240124T002806Z
UID:4320-1707472800-1707480000@stkildasouthportunitingchurch.org.au
SUMMARY:Playgroup
DESCRIPTION:For children aged 0-4 with their parent/s or carers \nMeet other local families\nEnjoy a relaxed playtime indoors\nand gardening & nature activities in the community garden.\nUniting Church hall\, Port Melbourne\n144 Bridge St (enter off Nott St) \n\n							print
URL:https://stkildasouthportunitingchurch.org.au/event/playgroup-2024-02-09/
LOCATION:Port Melbourne Uniting Church\, 144 Bridge St\, Port Melbourne\, 3207\, Australia
CATEGORIES:Playgroup
ATTACH;FMTTYPE=image/jpeg:https://stkildasouthportunitingchurch.org.au/wp-content/uploads/2023/03/Playgroup.jpg
ORGANIZER;CN="Janet Hoare":MAILTO:janet.hoare@sksp.org.au
END:VEVENT
BEGIN:VEVENT
DTSTART;TZID=Australia/Melbourne:20240202T100000
DTEND;TZID=Australia/Melbourne:20240202T120000
DTSTAMP:20260425T045238
CREATED:20240124T002725Z
LAST-MODIFIED:20240124T002725Z
UID:4318-1706868000-1706875200@stkildasouthportunitingchurch.org.au
SUMMARY:Playgroup
DESCRIPTION:For children aged 0-4 with their parent/s or carers \nMeet other local families\nEnjoy a relaxed playtime indoors\nand gardening & nature activities in the community garden.\nUniting Church hall\, Port Melbourne\n144 Bridge St (enter off Nott St) \n\n							print
URL:https://stkildasouthportunitingchurch.org.au/event/playgroup-2024-02-02/
LOCATION:Port Melbourne Uniting Church\, 144 Bridge St\, Port Melbourne\, 3207\, Australia
CATEGORIES:Playgroup
ATTACH;FMTTYPE=image/jpeg:https://stkildasouthportunitingchurch.org.au/wp-content/uploads/2023/03/Playgroup.jpg
ORGANIZER;CN="Janet Hoare":MAILTO:janet.hoare@sksp.org.au
END:VEVENT
BEGIN:VEVENT
DTSTART;TZID=Australia/Melbourne:20231222T100000
DTEND;TZID=Australia/Melbourne:20231222T120000
DTSTAMP:20260425T045238
CREATED:20231215T043513Z
LAST-MODIFIED:20231215T043513Z
UID:4274-1703239200-1703246400@stkildasouthportunitingchurch.org.au
SUMMARY:Playgroup
DESCRIPTION:For children aged 0-4 with their parent/s or carers \nMeet other local families\nEnjoy a relaxed playtime indoors\nand gardening & nature activities in the community garden.\nUniting Church hall\, Port Melbourne\n144 Bridge St (enter off Nott St) \nFinal playgroup for 2023 \n\n							print
URL:https://stkildasouthportunitingchurch.org.au/event/playgroup-2023-12-22/
LOCATION:Port Melbourne Uniting Church\, 144 Bridge St\, Port Melbourne\, 3207\, Australia
CATEGORIES:Playgroup
ATTACH;FMTTYPE=image/jpeg:https://stkildasouthportunitingchurch.org.au/wp-content/uploads/2023/03/Playgroup.jpg
ORGANIZER;CN="Janet Hoare":MAILTO:janet.hoare@sksp.org.au
END:VEVENT
BEGIN:VEVENT
DTSTART;TZID=Australia/Melbourne:20231215T100000
DTEND;TZID=Australia/Melbourne:20231215T120000
DTSTAMP:20260425T045238
CREATED:20231201T060753Z
LAST-MODIFIED:20231201T060753Z
UID:4261-1702634400-1702641600@stkildasouthportunitingchurch.org.au
SUMMARY:Playgroup
DESCRIPTION:For children aged 0-4 with their parent/s or carers \nMeet other local families\nEnjoy a relaxed playtime indoors\nand gardening & nature activities in the community garden.\nUniting Church hall\, Port Melbourne\n144 Bridge St (enter off Nott St) \n\n							print
URL:https://stkildasouthportunitingchurch.org.au/event/playgroup-2023-12-15/
LOCATION:Port Melbourne Uniting Church\, 144 Bridge St\, Port Melbourne\, 3207\, Australia
CATEGORIES:Playgroup
ATTACH;FMTTYPE=image/jpeg:https://stkildasouthportunitingchurch.org.au/wp-content/uploads/2023/03/Playgroup.jpg
ORGANIZER;CN="Janet Hoare":MAILTO:janet.hoare@sksp.org.au
END:VEVENT
END:VCALENDAR